BEGIN:VCALENDAR
VERSION:2.0
PRODID:-//Verdadeiro Olhar - ECPv5.8.0//NONSGML v1.0//EN
CALSCALE:GREGORIAN
METHOD:PUBLISH
X-WR-CALNAME:Verdadeiro Olhar
X-ORIGINAL-URL:https://www.verdadeiroolhar.pt
X-WR-CALDESC:Events for Verdadeiro Olhar
BEGIN:VTIMEZONE
TZID:UTC
BEGIN:STANDARD
TZOFFSETFROM:+0000
TZOFFSETTO:+0000
TZNAME:UTC
DTSTART:20180101T000000
END:STANDARD
END:VTIMEZONE
BEGIN:VEVENT
DTSTART;VALUE=DATE:20180327
DTEND;VALUE=DATE:20180527
DTSTAMP:20260424T052343
CREATED:20180312T153848Z
LAST-MODIFIED:20180312T153848Z
UID:36659-1522108800-1527379199@www.verdadeiroolhar.pt
SUMMARY:Mostra de Teatro Amador de Valongo 2018
DESCRIPTION:Decorre\, de 27 de Março a 26 de Maio\, mais uma edição da Mostra de Teatro Amador de Valongo. \nConheça o programa:
URL:https://www.verdadeiroolhar.pt/evento/mostra-teatro-amador-valongo-2018/
LOCATION:Valongo\, Valongo
CATEGORIES:Cultura,Eventos Públicos
ATTACH;FMTTYPE=image/jpeg:https://www.verdadeiroolhar.pt/wp-content/uploads/2018/03/Mostra-Teatro.jpg
END:VEVENT
BEGIN:VEVENT
DTSTART;VALUE=DATE:20180424
DTEND;VALUE=DATE:20180426
DTSTAMP:20260424T052343
CREATED:20180419T144247Z
LAST-MODIFIED:20180419T144247Z
UID:39503-1524528000-1524700799@www.verdadeiroolhar.pt
SUMMARY:Paredes assinala 25 de Abril
DESCRIPTION:O município de Paredes preparou um conjunto de iniciativas para comemorar o dia da Liberdade. As comemorações têm início no dia 24 de Abril\, com um concerto alusivo à efeméride\, pelo Orfeão do Altis Clube de Paredes\, pelas 21h30\, na Casa da Cultura de Paredes. A cerimónia evocativa dos 44 anos da revolução dos cravos\, tem lugar no dia 25 de Abril. \n \nPROGRAMA \n24 de Abril \n21h30 – Casa da Cultura de Paredes \nConcerto de Abril pelo Orfeão do Altis Clube de Paredes \n25 de Abril \n9h30 – Receção aos convidados \n10h00 – Salão Nobre dos Paços do Concelho \n  \nSESSÃO SOLENE DAS COMEMORAÇÕES DO 25 DE ABRIL \n11h00 – Registo fotográfico na entrada da autarquia\, com largada de pombas brancas \n11h15 – Memórias – Projeção de vídeo “25 de Abril em Paredes” \n11h30 – Parque José Guilherme \nConcerto da Banda Filarmónica de Vilela \n15h00 – Casa da Cultura de Paredes \n“As minhas histórias de ABRIL” \nCom a presença de Manuel Ferreira Coelho\, diretor do jornal “O Paredense”\, e Alberto Pereira Leite\, presidente de Câmara entre 7 de Junho de 1973 a 8 de Julho de 1974. \n– Apontamento musical do Conservatório de Música de Paredes e declamação de poemas de Fernando Soares.
URL:https://www.verdadeiroolhar.pt/evento/paredes-assinala-25-abril/
LOCATION:Paredes
CATEGORIES:Eventos Públicos
ATTACH;FMTTYPE=image/png:https://www.verdadeiroolhar.pt/wp-content/uploads/2018/04/convite_25abril_1_1024_2500.png
END:VEVENT
BEGIN:VEVENT
DTSTART;VALUE=DATE:20180425
DTEND;VALUE=DATE:20180426
DTSTAMP:20260424T052343
CREATED:20180419T143713Z
LAST-MODIFIED:20180419T143713Z
UID:39496-1524614400-1524700799@www.verdadeiroolhar.pt
SUMMARY:Festas da Liberdade assinalam 25 de Abril em Valongo
DESCRIPTION:O município de Valongo vai comemorar o 25 de Abril com um conjunto de actividades de âmbito cívico e cultural. \n \nPROGRAMA \nPaços do Concelho\n10H30\nParada Formal. Corporações de Bombeiros do Município\nHasteamento de Bandeiras\nHino Nacional e Hino do 25 de Abril. Bandas Musicais de S. Vicente de Alfena e de S. Martinho de Campo \nHall do Salão Nobre\n10H45\nRecordar Abril. Cantigas de intervenção por Orlando Mesquita \nSalão Nobre\n11H00\nSessão Extraordinária de Assembleia Municipal\nPerformance teatral. Cabeças no Ar e Pés na Terra\, Associação Cultural \nFórum Cultural\, Ermesinde\nGaleria Museológica\n16H00\nInauguração da Exposição Internacional de Cartoon “LIBERDADE\, IGUALDADE E FRATERNIDADE”. Museu Nacional da Imprensa. \nAuditório do Parque Urbano de Ermesinde\n17H00\nConcerto. ABRIL 44.
URL:https://www.verdadeiroolhar.pt/evento/festas-da-liberdade-assinalam-25-abril-valongo/
LOCATION:Valongo\, Valongo
CATEGORIES:Eventos Públicos
ATTACH;FMTTYPE=image/jpeg:https://www.verdadeiroolhar.pt/wp-content/uploads/2018/04/30740870_1755942541135969_2902536789807857664_o.jpg
END:VEVENT
BEGIN:VEVENT
DTSTART;TZID=UTC:20180425T080000
DTEND;TZID=UTC:20180425T130000
DTSTAMP:20260424T052343
CREATED:20180405T102207Z
LAST-MODIFIED:20180405T102207Z
UID:38281-1524643200-1524661200@www.verdadeiroolhar.pt
SUMMARY:Caminhada Solidária Liga Portuguesa contra o Cancro em Paço de Sousa
DESCRIPTION:Realiza-se\, a 25 de Abril\, em Paço de Sousa\, Penafiel\, a Caminhada Solidária Liga Portuguesa contra o Cancro 2018. \nA iniciativa\, sem carácter desportivo\, é organizada pela Junta de Freguesia de Paço de Sousa e conta com o apoio da Câmara Municipal de Penafiel. \nO percurso é de aproximadamente oito quilómetros com nível moderado de esforço\, duração estimada de duas horas e passagem por caminhos florestais. \nO valor da inscrição – três euros – reverterá na totalidade para Liga Portuguesa contra o Cancro. A organização oferece um kit com t-shirt e boné do evento e ainda água a meio da caminhada. \nA chegada e partida da caminhada é no Largo do Mosteiro de Paço de Sousa. A abertura do secretariado é pelas 8h00. Às 9h10 há exercício de aquecimento e às 9h30 começa a caminhada. \nAs inscrições devem ser feitas até ao dia 20 de Abril\, presencialmente na Junta de Freguesia de Paço de Sousa ou pelo telefone 255752711.
URL:https://www.verdadeiroolhar.pt/evento/caminhada-solidaria-liga-portuguesa-contra-o-cancro-em-paco-de-sousa/
LOCATION:Paço de Sousa\, Paço de Sousa\, Penafiel
CATEGORIES:Desporto,Eventos Públicos
ATTACH;FMTTYPE=image/jpeg:https://www.verdadeiroolhar.pt/wp-content/uploads/2018/04/Caminhada.jpg
ORGANIZER;CN="Junta%20de%20Freguesia%20de%20Pa%C3%A7o%20de%20Sousa":MAILTO:mail@jf-pacodesousa.pt
END:VEVENT
BEGIN:VEVENT
DTSTART;TZID=UTC:20180425T090000
DTEND;TZID=UTC:20180425T120000
DTSTAMP:20260424T052343
CREATED:20180404T150011Z
LAST-MODIFIED:20180404T150011Z
UID:38249-1524646800-1524657600@www.verdadeiroolhar.pt
SUMMARY:Caminhada em Vilar do Torno e Alentém\, Lousada
DESCRIPTION:Lousada continua\, em Abril\, o Programa Municipal de Caminhadas com uma Caminhada em Vilar do Torno e Alentém\, designada “Pequenos Passos\, Grandes Gestos”\, no dia 25\, a partir das 9h00. \nExistem dois percursos\, um longo com cinco quilómetros e um curto com 1\,5 quilómetros. A inscrição custa 1\,5 euros.
URL:https://www.verdadeiroolhar.pt/evento/caminhada-vilar-do-torno-alentem-lousada/
LOCATION:Vilar do Torno e Alentém\, Lousada
CATEGORIES:Desporto,Eventos Públicos
ATTACH;FMTTYPE=image/jpeg:https://www.verdadeiroolhar.pt/wp-content/uploads/2017/12/Programa-Municipal-de-Caminhadas-de-Lousada-2.jpg
END:VEVENT
BEGIN:VEVENT
DTSTART;TZID=UTC:20180425T090000
DTEND;TZID=UTC:20180425T120000
DTSTAMP:20260424T052343
CREATED:20180413T094349Z
LAST-MODIFIED:20180413T094349Z
UID:38831-1524646800-1524657600@www.verdadeiroolhar.pt
SUMMARY:"Caminhada da Liberdade" une Vilela e Lordelo
DESCRIPTION:No dia 25 de Abril as Juntas de Freguesia de Lordelo e Vilela estão a organizar a “Caminhada da Liberdade”. \nA caminhada começará às 9h00 junto ao Centro Escolar de Vilela e terá um percurso de aproximadamente oito quilómetros (ida e volta) em direcção ao Parque do Rio Ferreira\, em Lordelo. No início e no final haverá alongamentos e no meio um reforço\, diz a organização. \nA inscrição é gratuita mas obrigatória\, até ao dia 21 de Abril. Quem quiser participar deverá inscrever-se na Junta de Freguesia de Vilela\, na Junta de Freguesia de Lordelo ou online.
URL:https://www.verdadeiroolhar.pt/evento/caminhada-da-liberdade-une-vilela-lordelo/
LOCATION:Vilela\, Paredes
CATEGORIES:Desporto,Eventos Públicos
ATTACH;FMTTYPE=image/jpeg:https://www.verdadeiroolhar.pt/wp-content/uploads/2018/04/Caminhada-1.jpg
END:VEVENT
BEGIN:VEVENT
DTSTART;TZID=UTC:20180425T100000
DTEND;TZID=UTC:20180425T170000
DTSTAMP:20260424T052343
CREATED:20180221T145908Z
LAST-MODIFIED:20180221T145908Z
UID:35575-1524650400-1524675600@www.verdadeiroolhar.pt
SUMMARY:2.ª Corrida de Rolamentos RolaRaceInCapela
DESCRIPTION:No dia 25 de Abril decorre\, na freguesia de Capela\, em Penafiel\, a partir das 14h00\, a 2.ª Corrida de Rolamentos RolaRaceInCapela. \nEsta prova de carros de rolamentos será dividida por três mangas. Há prémios para os três primeiros classificados nas categorias de distância mais longa\, carro mais alegórico\, atleta mais novo a participar e atleta mais velho a participar. \nO evento decorre no Parque de Merendas da Capela. \nPrograma:\n10h00 às 12h30: Abertura Secretariado e Treinos Livres\n13h50: Briefing\n14h00: Início corrida por mangas\n16h00: Início Descida “Todos ao Molho”\n16h30: Entrega de Prémios\n17h00: Pista Aberta para espectadores \nAs inscrições custam dois euros e podem ser realizadas aqui.
URL:https://www.verdadeiroolhar.pt/evento/2-corrida-rolamentos-rolaraceincapela/
LOCATION:Parque de Merendas da Capela\, Capela\, Penafiel
CATEGORIES:Desporto,Eventos Públicos
ATTACH;FMTTYPE=image/jpeg:https://www.verdadeiroolhar.pt/wp-content/uploads/2018/02/Capela.jpg
END:VEVENT
BEGIN:VEVENT
DTSTART;TZID=UTC:20180425T150000
DTEND;TZID=UTC:20180425T180000
DTSTAMP:20260424T052343
CREATED:20180423T101959Z
LAST-MODIFIED:20180423T101959Z
UID:39665-1524668400-1524679200@www.verdadeiroolhar.pt
SUMMARY:JS Penafiel organiza "Cantar a Liberdade"
DESCRIPTION:A Juventude Socialista organiza a iniciativa “Cantar a Liberdade”\, no dia 25 de Abril\, entre as 15h00 e as 18h00\, no Largo da Ajuda\, Penafiel.
URL:https://www.verdadeiroolhar.pt/evento/js-penafiel-organiza-cantar-liberdade/
LOCATION:Penafiel
CATEGORIES:Eventos Públicos
ATTACH;FMTTYPE=image/jpeg:https://www.verdadeiroolhar.pt/wp-content/uploads/2018/04/Cantar-Liberdade.jpg
END:VEVENT
END:VCALENDAR