BEGIN:VCALENDAR
VERSION:2.0
PRODID:-//Verdadeiro Olhar - ECPv5.8.0//NONSGML v1.0//EN
CALSCALE:GREGORIAN
METHOD:PUBLISH
X-WR-CALNAME:Verdadeiro Olhar
X-ORIGINAL-URL:https://www.verdadeiroolhar.pt
X-WR-CALDESC:Events for Verdadeiro Olhar
BEGIN:VTIMEZONE
TZID:UTC
BEGIN:STANDARD
TZOFFSETFROM:+0000
TZOFFSETTO:+0000
TZNAME:UTC
DTSTART:20180101T000000
END:STANDARD
END:VTIMEZONE
BEGIN:VEVENT
DTSTART;VALUE=DATE:20180327
DTEND;VALUE=DATE:20180527
DTSTAMP:20260423T233949
CREATED:20180312T153848Z
LAST-MODIFIED:20180312T153848Z
UID:36659-1522108800-1527379199@www.verdadeiroolhar.pt
SUMMARY:Mostra de Teatro Amador de Valongo 2018
DESCRIPTION:Decorre\, de 27 de Março a 26 de Maio\, mais uma edição da Mostra de Teatro Amador de Valongo. \nConheça o programa:
URL:https://www.verdadeiroolhar.pt/evento/mostra-teatro-amador-valongo-2018/
LOCATION:Valongo\, Valongo
CATEGORIES:Cultura,Eventos Públicos
ATTACH;FMTTYPE=image/jpeg:https://www.verdadeiroolhar.pt/wp-content/uploads/2018/03/Mostra-Teatro.jpg
END:VEVENT
BEGIN:VEVENT
DTSTART;VALUE=DATE:20180420
DTEND;VALUE=DATE:20180425
DTSTAMP:20260423T233949
CREATED:20180418T165714Z
LAST-MODIFIED:20180418T165714Z
UID:39419-1524182400-1524614399@www.verdadeiroolhar.pt
SUMMARY:Raimonda assinala o 25 de Abril com espectáculos
DESCRIPTION:A Junta de Freguesia de Raimonda\, em Paços de Ferreira\, assinala o 25 de Abril com vários espectáculos. \nNo dia 20\, pelas 21h00\, é inaugurada uma exposição no auditório da junta e segue-se um espectáculo de Rui Taipa. No dia 24\, haverá um sarau poético com vários declamadores.
URL:https://www.verdadeiroolhar.pt/evento/raimonda-assinala-25-abril-espectaculos/
LOCATION:Raimonda\, Paços de Ferreira\, Portugal
CATEGORIES:Eventos Públicos
ATTACH;FMTTYPE=image/jpeg:https://www.verdadeiroolhar.pt/wp-content/uploads/2018/04/Raimonda-2.jpg
END:VEVENT
BEGIN:VEVENT
DTSTART;TZID=UTC:20180420T213000
DTEND;TZID=UTC:20180420T233000
DTSTAMP:20260423T233949
CREATED:20180418T150720Z
LAST-MODIFIED:20180418T150720Z
UID:39403-1524259800-1524267000@www.verdadeiroolhar.pt
SUMMARY:JS Lousada organiza tertúlia sobre o 25 de Abril
DESCRIPTION:A JS Lousada realiza\, no dia 20 de Abril\, pelas 21h30\, no Puro Flow\, uma tertúlia que pretende abordar a Revolução dos Cravos com a visão de um ex-combatente no Ultramar e soldado presente em Lisboa no dia 25 de Abril de 1974\, um professor e historiador e ainda um jovem estudante\, todos eles lousadenses. \nA tertúlia intitula-se “Histórias de Abril – Um encontro de gerações”.
URL:https://www.verdadeiroolhar.pt/evento/js-lousada-organiza-tertulia-25-abril/
LOCATION:Lousada
CATEGORIES:Eventos Públicos
ATTACH;FMTTYPE=image/jpeg:https://www.verdadeiroolhar.pt/wp-content/uploads/2018/04/20ABR_JS.jpg
END:VEVENT
END:VCALENDAR