BEGIN:VCALENDAR
VERSION:2.0
PRODID:-//Verdadeiro Olhar - ECPv5.8.0//NONSGML v1.0//EN
CALSCALE:GREGORIAN
METHOD:PUBLISH
X-WR-CALNAME:Verdadeiro Olhar
X-ORIGINAL-URL:https://www.verdadeiroolhar.pt
X-WR-CALDESC:Events for Verdadeiro Olhar
BEGIN:VTIMEZONE
TZID:UTC
BEGIN:STANDARD
TZOFFSETFROM:+0000
TZOFFSETTO:+0000
TZNAME:UTC
DTSTART:20180101T000000
END:STANDARD
END:VTIMEZONE
BEGIN:VEVENT
DTSTART;VALUE=DATE:20180327
DTEND;VALUE=DATE:20180527
DTSTAMP:20260423T170555
CREATED:20180312T153848Z
LAST-MODIFIED:20180312T153848Z
UID:36659-1522108800-1527379199@www.verdadeiroolhar.pt
SUMMARY:Mostra de Teatro Amador de Valongo 2018
DESCRIPTION:Decorre\, de 27 de Março a 26 de Maio\, mais uma edição da Mostra de Teatro Amador de Valongo. \nConheça o programa:
URL:https://www.verdadeiroolhar.pt/evento/mostra-teatro-amador-valongo-2018/
LOCATION:Valongo\, Valongo
CATEGORIES:Cultura,Eventos Públicos
ATTACH;FMTTYPE=image/jpeg:https://www.verdadeiroolhar.pt/wp-content/uploads/2018/03/Mostra-Teatro.jpg
END:VEVENT
BEGIN:VEVENT
DTSTART;TZID=UTC:20180414T090000
DTEND;TZID=UTC:20180414T123000
DTSTAMP:20260423T170555
CREATED:20180406T112951Z
LAST-MODIFIED:20180406T112951Z
UID:38406-1523696400-1523709000@www.verdadeiroolhar.pt
SUMMARY:Caminhada Solidária Prevenção dos Maus-Tratos na Infância em Valongo
DESCRIPTION:No dia 14 de Abril realiza-se uma caminhada no Percurso Pedestre da Quinta das Arcas\, em Valongo\, com o tema Prevenção dos Maus-Tratos na Infância. \nA iniciativa desenvolvida em parceria com a Comissão de Protecção de Crianças e Jovens de Valongo\, a Câmara Municipal e a Junta de Freguesia de Campo e Sobrado\, pretende consciencializar a comunidade para a importância da prevenção dos maus-tratos na infância; o fortalecimento das famílias\, no sentido de uma parentalidade positiva e numa perspectiva de empowerment; e o fortalecimento das próprias crianças. \nA caminhada é gratuita e todos os participantes devem contribuir com um donativo para a Comissão de Protecção de Crianças e Jovens do Concelho de Valongo. \nNo final da caminhada e como habitual terá lugar prova de alguns vinhos\, queijos e azeite. \nSerá oferecido a todos os participantes o laço azul que relembra a protecção das crianças contra os maus-tratos. \nAs inscrições devem ser feitas junto da Quinta das Arcas através do email enoturismo@nullquintadasarcas.com ou telefone 224 157 810.
URL:https://www.verdadeiroolhar.pt/evento/caminhada-solidaria-prevencao-dos-maus-tratos-na-infancia-valongo/
LOCATION:Quinta das Arcas\, Rua Central da Lomba\, Sobrado\, Valongo\, 4440-392
CATEGORIES:Eventos Públicos
ATTACH;FMTTYPE=image/jpeg:https://www.verdadeiroolhar.pt/wp-content/uploads/2018/04/29351832_2023908457630960_3667408766387303922_o.jpg
END:VEVENT
BEGIN:VEVENT
DTSTART;TZID=UTC:20180414T093000
DTEND;TZID=UTC:20180414T123000
DTSTAMP:20260423T170555
CREATED:20180319T124537Z
LAST-MODIFIED:20180319T124537Z
UID:37154-1523698200-1523709000@www.verdadeiroolhar.pt
SUMMARY:CSI Natureza em Lousada
DESCRIPTION:A 14 de Abril\, a Associação Bioliving e a Câmara Municipal de Lousada organizam mais um evento no âmbito do BioLousada designado CSI Natureza\, entre as 9h30 e as 12h30\, no Parque Urbano. \nO ambiente e a biodiversidade que rodeiam um cenário de crime podem ser fulcrais no desfecho da investigação. A botânica forense\, a entomologia forense\, a observação de pelos e pegadas são exemplos de pistas que podem ajudar a resolver casos de polícia. Esta actividade é para os mais curiosos e destemidos detectives da natureza e ensinará como a biologia se cruza com outras ciências na análise de tipos sanguíneos\, impressões digitais\, e outros vestígios\, refere a organização. \nAs inscrições são gratuitas mas obrigatórias. \nA actividade conta com o apoio de Euro4science project e do Departamento de Biologia – Universidade de Aveiro.
URL:https://www.verdadeiroolhar.pt/evento/csi-natureza-lousada/
LOCATION:Parque Urbano Dr. Mário Fonseca\, Avenida Amílcar Neto\, Lousada
CATEGORIES:Eventos Públicos
ATTACH;FMTTYPE=image/jpeg:https://www.verdadeiroolhar.pt/wp-content/uploads/2018/03/BioLousada.jpg
END:VEVENT
BEGIN:VEVENT
DTSTART;TZID=UTC:20180414T100000
DTEND;TZID=UTC:20180414T120000
DTSTAMP:20260423T170555
CREATED:20180404T150937Z
LAST-MODIFIED:20180409T114649Z
UID:38256-1523700000-1523707200@www.verdadeiroolhar.pt
SUMMARY:"Ciência no Parque" no Parque de Lazer de Casais
DESCRIPTION:A próxima actividade do projecto “Ciência no Parque” está agendada para dia 14 de Abril\, no Parque de Lazer de Casais\, em Lousada\, entre as 10h00 e as 12h00. \nO projecto pretende promover actividades ligadas às ciências experimentais\, em vários parques de lazer\, uma vez por mês\, motivando os alunos do 1.º ciclo para o mundo das ciências e para novas aptidões e competências estimulando a criatividade\, o conhecimento e o saber. \nAs actividades são realizadas no âmbito do Ano Municipal da Criança que se assina em Lousada. \n 
URL:https://www.verdadeiroolhar.pt/evento/ciencia-no-parque-no-parque-lazer-casais/
LOCATION:Parque de Casais\, Lousada
CATEGORIES:Eventos Públicos
ATTACH;FMTTYPE=image/jpeg:https://www.verdadeiroolhar.pt/wp-content/uploads/2018/04/30571420_1633722463373014_4539148771031777280_o.jpg
END:VEVENT
BEGIN:VEVENT
DTSTART;TZID=UTC:20180414T213000
DTEND;TZID=UTC:20180414T230000
DTSTAMP:20260423T170555
CREATED:20180123T153308Z
LAST-MODIFIED:20180413T090221Z
UID:34045-1523741400-1523746800@www.verdadeiroolhar.pt
SUMMARY:Blind Zero na Fundação A LORD
DESCRIPTION:No sábado\, dia 14 de Abril\, às 21h30\, o auditório da Fundação A LORD\, em Lordelo\, Paredes\, recebe um concerto de Blind Zero\, que vão apresentar o novo disco. \n\n“Often Trees”\, apresenta-se também em formato acústico\, mais subtil mas sem perda de identidade.\nO formato acústico permite a maior dimensão da palavra e da intimidade. Uma viagem pelos muitos pormenores de recorte das árvores na densa floresta de “Often Trees”. \nOs bilhetes custam cinco euros e já estão à venda. Para mais informações 224 447 357.
URL:https://www.verdadeiroolhar.pt/evento/blind-zero-na-fundacao-lord/
LOCATION:Auditório da Fundação A LORD\, Lordelo
CATEGORIES:Cultura,Eventos Públicos
ATTACH;FMTTYPE=image/jpeg:https://www.verdadeiroolhar.pt/wp-content/uploads/2018/01/Blind-Zero.jpg
END:VEVENT
END:VCALENDAR