BEGIN:VCALENDAR
VERSION:2.0
PRODID:-//Verdadeiro Olhar - ECPv5.8.0//NONSGML v1.0//EN
CALSCALE:GREGORIAN
METHOD:PUBLISH
X-WR-CALNAME:Verdadeiro Olhar
X-ORIGINAL-URL:https://www.verdadeiroolhar.pt
X-WR-CALDESC:Events for Verdadeiro Olhar
BEGIN:VTIMEZONE
TZID:UTC
BEGIN:STANDARD
TZOFFSETFROM:+0000
TZOFFSETTO:+0000
TZNAME:UTC
DTSTART:20180101T000000
END:STANDARD
END:VTIMEZONE
BEGIN:VEVENT
DTSTART;VALUE=DATE:20180327
DTEND;VALUE=DATE:20180527
DTSTAMP:20260423T095954
CREATED:20180312T153848Z
LAST-MODIFIED:20180312T153848Z
UID:36659-1522108800-1527379199@www.verdadeiroolhar.pt
SUMMARY:Mostra de Teatro Amador de Valongo 2018
DESCRIPTION:Decorre\, de 27 de Março a 26 de Maio\, mais uma edição da Mostra de Teatro Amador de Valongo. \nConheça o programa:
URL:https://www.verdadeiroolhar.pt/evento/mostra-teatro-amador-valongo-2018/
LOCATION:Valongo\, Valongo
CATEGORIES:Cultura,Eventos Públicos
ATTACH;FMTTYPE=image/jpeg:https://www.verdadeiroolhar.pt/wp-content/uploads/2018/03/Mostra-Teatro.jpg
END:VEVENT
BEGIN:VEVENT
DTSTART;TZID=UTC:20180408T090000
DTEND;TZID=UTC:20180408T190000
DTSTAMP:20260423T095954
CREATED:20180306T162215Z
LAST-MODIFIED:20180306T162215Z
UID:36399-1523178000-1523214000@www.verdadeiroolhar.pt
SUMMARY:Feira de Antiguidades\, Coleccionismo e Velharias de Lousada
DESCRIPTION:No segundo domingo de cada mês\, a Avenida do Senhor dos Aflitos\, em Lousada\, recebe a Feira de Antiguidades\, Coleccionismo e Velharias. \nHaverá feira no dia 8 de Abril\, entre as 9h00 e as 19h00.
URL:https://www.verdadeiroolhar.pt/evento/feira-antiguidades-coleccionismo-velharias-lousada-5/
LOCATION:Avenida do Senhor dos Aflitos\, Avenida do Senhor dos Aflitos\, Lousada\, Portugal
CATEGORIES:Eventos Públicos
ATTACH;FMTTYPE=image/jpeg:https://www.verdadeiroolhar.pt/wp-content/uploads/2017/08/Feira-de-Antiguidades-e-Velharias-de-Lousada.jpg
END:VEVENT
BEGIN:VEVENT
DTSTART;TZID=UTC:20180408T090000
DTEND;TZID=UTC:20180408T123000
DTSTAMP:20260423T095954
CREATED:20180329T103203Z
LAST-MODIFIED:20180329T103203Z
UID:37954-1523178000-1523190600@www.verdadeiroolhar.pt
SUMMARY:Caminhada do Autismo em Paredes
DESCRIPTION:No dia 8 de Abril\, pelas 9h00\, realiza-se a Caminhada do Autismo\, em Paredes. A iniciativa visa angariar fundos para a Unidade de Autismo do Agrupamento de Escolas de Vilela. \nO ponto de partida é o Pavilhão Municipal de Paredes. A inscrição custa entre dois a três euros dependendo se é individual ou de grupo. \nPara informações e inscrições contactar o 255788951.
URL:https://www.verdadeiroolhar.pt/evento/caminhada-do-autismo-paredes/
LOCATION:Pavilhão Multiusos de Paredes\, Avenida doutor Francisco Sá Carneiro\, Paredes
CATEGORIES:Desporto,Eventos Públicos
ATTACH;FMTTYPE=image/jpeg:https://www.verdadeiroolhar.pt/wp-content/uploads/2018/03/Caminhada-Autismo.jpg
END:VEVENT
BEGIN:VEVENT
DTSTART;TZID=UTC:20180408T100000
DTEND;TZID=UTC:20180408T140000
DTSTAMP:20260423T095954
CREATED:20180116T121109Z
LAST-MODIFIED:20180409T114604Z
UID:33685-1523181600-1523196000@www.verdadeiroolhar.pt
SUMMARY:II Trail Bombeiros Voluntários de Lordelo
DESCRIPTION:No dia 15 de Abril\, pelas 10h00\, realiza-se o II Trail Bombeiros Voluntários de Lordelo. A prova inclui um trail de 15 quilómetros e uma caminhada de oito quilómetros. \nAs inscrições já estão a decorrer\, até ao dia 8 de Abril\, e custam entre 5 e 10 euros. \nA partida é no Quartel dos Bombeiros Voluntários de Lordelo.
URL:https://www.verdadeiroolhar.pt/evento/ii-trail-bombeiros-voluntarios-lordelo/
LOCATION:Lordelo\, Lordelo\, Paredes
CATEGORIES:Desporto,Eventos Públicos
ATTACH;FMTTYPE=image/jpeg:https://www.verdadeiroolhar.pt/wp-content/uploads/2018/01/Bombeiros-Lordelo_Trail.jpg
END:VEVENT
END:VCALENDAR