BEGIN:VCALENDAR
VERSION:2.0
PRODID:-//Verdadeiro Olhar - ECPv5.8.0//NONSGML v1.0//EN
CALSCALE:GREGORIAN
METHOD:PUBLISH
X-WR-CALNAME:Verdadeiro Olhar
X-ORIGINAL-URL:https://www.verdadeiroolhar.pt
X-WR-CALDESC:Events for Verdadeiro Olhar
BEGIN:VTIMEZONE
TZID:UTC
BEGIN:STANDARD
TZOFFSETFROM:+0000
TZOFFSETTO:+0000
TZNAME:UTC
DTSTART:20180101T000000
END:STANDARD
END:VTIMEZONE
BEGIN:VEVENT
DTSTART;VALUE=DATE:20180317
DTEND;VALUE=DATE:20180319
DTSTAMP:20260422T061212
CREATED:20171218T185332Z
LAST-MODIFIED:20180319T145702Z
UID:32646-1521244800-1521417599@www.verdadeiroolhar.pt
SUMMARY:Trilhos do Paleozóico em Valongo
DESCRIPTION:A 18 de Março de 2018 realiza-se a 6.ª edição dos Trilhos do Paleozóico\, prova pontuável para o circuito Nacional Ultra Trail e prova pontuável para o Mont Blanc (3 pontos). \nO evento é organizado pelo Grupo Dramático e Recreativo da Retorta com a co-organização da Câmara Municipal de Valongo. \nA prova consiste em percorrer a pé trilhos e caminhos nas serras de Santa Justa\, Pias e Castiçal. \nSegundo a organização grande parte do percurso passará dentro do Parque Paleozóico de Valongo reconhecido internacionalmente pela sua riqueza fossilífera e pelas minas de ouro que foram exploradas desde o tempo da actividade mineira romana. \nHaverá provas para todas as distâncias e idades. No dia 17 há o trilho dos pequeninos. No dia 18 há uma caminhada de 12 quilómetros\, um trail curto de 12 quilómetros\, um trial longo de 23 quilómetros e um ultra trail de 48 quilómetros. \nPode inscrever-se aqui.
URL:https://www.verdadeiroolhar.pt/evento/trilhos-do-paleozoico-valongo-2/
LOCATION:Valongo\, Valongo
CATEGORIES:Desporto,Eventos Públicos
ATTACH;FMTTYPE=image/jpeg:https://www.verdadeiroolhar.pt/wp-content/uploads/2017/12/25498363_1757191624291173_1951254919624584333_n.jpg
END:VEVENT
BEGIN:VEVENT
DTSTART;VALUE=DATE:20180317
DTEND;VALUE=DATE:20180319
DTSTAMP:20260422T061212
CREATED:20180221T144229Z
LAST-MODIFIED:20180221T144229Z
UID:35564-1521244800-1521417599@www.verdadeiroolhar.pt
SUMMARY:Baltar Tuning & Stance - Concentração e exposição de veículos modificados
DESCRIPTION:Nos dias 17 e 18 de Março\, entre as 14h00 e as 17h00\, Baltar recebe mais um Baltar Tuning & Stance – concentração e exposição de veículos modificados. \nDurante o evento vão decorrer vários espectáculos como Show de Stunt Riding/Freestyle\, Show de Drift\, Car Limbo e Prova de escape Ruidoso/Fumarento/Rater. \nHaverá ainda zona de expositores\, locais com comes e bebes e zona de acampamento para quem quiser ficar durante os dois dias. \nO evento realiza-se no parque exterior da empresa A.Barbosa Madeiras\, a 500 metros da saída Baltar/Parada (A4). \nAs inscrições custam entre cinco e 10 euros. \nA organização é do Tuning & Stance Portugal\, Cola-me e do 100 Limites. Saiba mais aqui.
URL:https://www.verdadeiroolhar.pt/evento/baltar-tuning-stance-concentracao-exposicao-veiculos-modificados/
LOCATION:Baltar\, Paredes
CATEGORIES:Eventos Públicos
ATTACH;FMTTYPE=image/jpeg:https://www.verdadeiroolhar.pt/wp-content/uploads/2018/02/Tunning.jpg
END:VEVENT
BEGIN:VEVENT
DTSTART;TZID=UTC:20180317T093000
DTEND;TZID=UTC:20180317T123000
DTSTAMP:20260422T061212
CREATED:20180215T124008Z
LAST-MODIFIED:20180215T124008Z
UID:35285-1521279000-1521289800@www.verdadeiroolhar.pt
SUMMARY:Madeira Morta\, Natureza Viva no BioLousada
DESCRIPTION:A 17 de Março\, a Mata de Vilar recebe mais uma actividade do BioLousada\, desta vez com o tema Madeira Morta\, Natureza Viva. \nA iniciativa\, que decorre entre as 9h30 e as 12h30\, realça o papel das árvores que é muito mais do que a produção de oxigénio e fixação de carbono. \n“As árvores representam enormes ecossistemas quando vivas\, mas também já depois de mortas. 30% dos seres vivos florestais não vivem sem madeira morta\, inclusive o maior escaravelho da Europa\, a Vaca-loura. Convidamo-lo a ajudar-nos a construir um abrigo para este escaravelho tão emblemático\, aproveitando para aprender um pouco mais sobre o papel da madeira morta no equilíbrio das nossas florestas”\, refere a organização. \no formador será João Gonçalo Soutinho (biólogo)\, coordenador nacional do projecto VacaLoura.pt.  \nAs inscrições decorrem até 3 de Março em www.cm-lousada.pt/pt/biolousada. 
URL:https://www.verdadeiroolhar.pt/evento/madeira-morta-natureza-viva-no-biolousada/
LOCATION:Mata e Parque de Vilar\, Lousada
CATEGORIES:Eventos Públicos
ATTACH;FMTTYPE=image/jpeg:https://www.verdadeiroolhar.pt/wp-content/uploads/2018/02/BioLousada.jpg
END:VEVENT
BEGIN:VEVENT
DTSTART;TZID=UTC:20180317T093000
DTEND;TZID=UTC:20180324T183000
DTSTAMP:20260422T061212
CREATED:20180313T151657Z
LAST-MODIFIED:20180313T151657Z
UID:36785-1521279000-1521916200@www.verdadeiroolhar.pt
SUMMARY:Feira do Livro Novo e Usado em Paredes
DESCRIPTION:Entre os dias 17 e 24 de Março vai decorrer\, na Casa da Cultura de Paredes\, a Feira do Livro Novo e Usado. \nSegundo a Câmara Municipal de Paredes\, promotora do evento\, na feira vão estar expostos livros de várias temáticas\, desde romances\, enciclopédias\, dicionários\, obras de referência\, literatura infantil e juvenil\, entre outras publicações. Durante o certame haverá ainda actividades de promoção do livro e da leitura\, nomeadamente\, recitais de poesia\, hora do conto\, presença de escritores\, apresentação de livros e concertos musicais. \n  \nA Feira do Livro Novo e Usado vai decorrer entre as 9h30 e as 18h30. \nPROGRAMA \n17 de Março – Café Literário\, Biblioteca Municipal \nA Biblioteca Municipal será\, igualmente\, transformada num café literário onde o leitor é convidado a trazer um livro da sua preferência. Após a troca de impressões sobre o mesmo\, o leitor pode trocar o seu livro por outro. \n17 de Março\, Casa da Cultura \n18h00 – Apresentação do Livro de Sérgio Lizardo \n21h30 – Apresentação do livro “No Arquivo da Memória”\, da autoria de Donzília Martins \n18 de Março \nDuas de letra com… \n15h00 – Viale Moutinho \n16h00 – Luís Oliveira e Sónia Marques Oliveira \n20 de Março\, Casa da Cultura \n10h00 – Apresentação do Livro Infantil “A Raposa Sebastiana”\, da autoria de Beatriz Lamas Oliveira \n19h30 – Concerto pelo Ensemble de Flautas e a Orquestra de Guitarras do Conservatório de Música de Paredes \n21 de Março\, Casa da Cultura \nDIA MUNDIAL DA POESIA \n11h00 – Recital de Poesia pelo ator Fernando Soares \n22 de Março \nDuas de letra com… \n10h00 e 15h00 – Rúben Oliveira e Cidália Pinto \n18h00 – José A. Damas \n23 de Março \n19h30 – Concerto pela Orquestra de Sopros de 2. º ciclo e Orquestra de Sopros de 3.º Ciclo e Secundário do Conservatório de Música de Paredes \nDuas de letra com… \n21h00 – Raul Minha’Alma \n21h30 – Palestra “Vamos falar de Cultura”\, com a presença de Odete Patrício – Vereadora da Câmara Municipal do Porto e membro do Conselho de Curadores da Universidade do Porto \n24 de Março \n21h00 – Apresentação do Livro “Ao fundo da minha rua…”\, da autoria de Rui Guedes
URL:https://www.verdadeiroolhar.pt/evento/feira-do-livro-novo-usado-paredes/
LOCATION:Casa da Cultura de Paredes\, Avenida da República\, Paredes\, 4580-193
CATEGORIES:Cultura,Eventos Públicos
ATTACH;FMTTYPE=image/jpeg:https://www.verdadeiroolhar.pt/wp-content/uploads/2017/05/Feira-do-Livro.jpg
END:VEVENT
END:VCALENDAR