BEGIN:VCALENDAR
VERSION:2.0
PRODID:-//Verdadeiro Olhar - ECPv5.8.0//NONSGML v1.0//EN
CALSCALE:GREGORIAN
METHOD:PUBLISH
X-WR-CALNAME:Verdadeiro Olhar
X-ORIGINAL-URL:https://www.verdadeiroolhar.pt
X-WR-CALDESC:Events for Verdadeiro Olhar
BEGIN:VTIMEZONE
TZID:UTC
BEGIN:STANDARD
TZOFFSETFROM:+0000
TZOFFSETTO:+0000
TZNAME:UTC
DTSTART:20170101T000000
END:STANDARD
END:VTIMEZONE
BEGIN:VEVENT
DTSTART;VALUE=DATE:20170407
DTEND;VALUE=DATE:20170430
DTSTAMP:20260423T031018
CREATED:20170330T161921Z
LAST-MODIFIED:20170330T161921Z
UID:19414-1491523200-1493510399@www.verdadeiroolhar.pt
SUMMARY:Lobos: “Um Uivo pela sobrevivência” em exposição
DESCRIPTION:Entre 7 e 29 de Abril\, a Biblioteca Municipal de Lousada recebe a exposição Lobos: “Um Uivo pela sobrevivência”\, pelo Grupo Lobo. \nÉ sobre a temática do lobo e da sua conservação e as formas de minimizar o conflito com o homem.
URL:https://www.verdadeiroolhar.pt/evento/lobos-um-uivo-pela-sobrevivencia-em-exposicao/
LOCATION:Biblioteca Municipal de Lousada\, Lousada
CATEGORIES:Cultura,Eventos Públicos
ATTACH;FMTTYPE=image/jpeg:https://www.verdadeiroolhar.pt/wp-content/uploads/2017/03/lobo.jpg
END:VEVENT
BEGIN:VEVENT
DTSTART;TZID=UTC:20170425T083000
DTEND;TZID=UTC:20170425T110000
DTSTAMP:20260423T031018
CREATED:20170403T102522Z
LAST-MODIFIED:20170403T102522Z
UID:19503-1493109000-1493118000@www.verdadeiroolhar.pt
SUMMARY:Caminhada Solidária em Paço de Sousa
DESCRIPTION:No dia 25 de Abril\, a Junta de Freguesia de Paço de Sousa e a Liga Portuguesa Contra o Cancro realizam uma Caminhada Solidária\, sob o lema “Capelas de Paço de Sousa”. \nO percurso é de seis quilómetros e a caminhada começa pelas 8h30. \nA inscrição tem o custo de 3 euros\, que revertem para a instituição\, e que dá acesso a uma tshirt da Liga Portuguesa Contra o Cancro e a uma garrafa de água. \nO pagamento da inscrição e o levantamento da tshirt deverá ser feito na secretaria da Junta de Freguesia durante o horário de funcionamento ou no próprio dia da caminhada.
URL:https://www.verdadeiroolhar.pt/evento/caminhada-solidaria-paco-sousa/
LOCATION:Paço de Sousa\, Paço de Sousa\, Penafiel
CATEGORIES:Desporto,Eventos Públicos
ATTACH;FMTTYPE=image/jpeg:https://www.verdadeiroolhar.pt/wp-content/uploads/2017/04/16835981_1397725553613105_6835111967920322552_o.jpg
ORGANIZER;CN="Junta%20de%20Freguesia%20de%20Pa%C3%A7o%20de%20Sousa":MAILTO:mail@jf-pacodesousa.pt
END:VEVENT
BEGIN:VEVENT
DTSTART;TZID=UTC:20170425T090000
DTEND;TZID=UTC:20170425T120000
DTSTAMP:20260423T031018
CREATED:20170327T144816Z
LAST-MODIFIED:20170327T144915Z
UID:19200-1493110800-1493121600@www.verdadeiroolhar.pt
SUMMARY:Mega Caminhada dos Bombeiros de Paredes
DESCRIPTION:No dia 25 de Abril\, pelas 10h00\, os Bombeiros Voluntários de Paredes organizam uma Mega Caminhada. O encontro está marcado a partir das 9h00\, junto ao quartel. \nAs inscrições custam 2\,5 euros e podem ser realizadas na corporação. As verbas destinam-se a apoiar a associação humanitária.
URL:https://www.verdadeiroolhar.pt/evento/mega-caminhada-dos-bombeiros-paredes/
LOCATION:Paredes
CATEGORIES:Desporto,Eventos Públicos
ATTACH;FMTTYPE=image/jpeg:https://www.verdadeiroolhar.pt/wp-content/uploads/2017/03/16665061_1579713982058734_5694056513242884163_o.jpg
END:VEVENT
END:VCALENDAR