BEGIN:VCALENDAR
VERSION:2.0
PRODID:-//Verdadeiro Olhar - ECPv5.8.0//NONSGML v1.0//EN
CALSCALE:GREGORIAN
METHOD:PUBLISH
X-WR-CALNAME:Verdadeiro Olhar
X-ORIGINAL-URL:https://www.verdadeiroolhar.pt
X-WR-CALDESC:Events for Verdadeiro Olhar
BEGIN:VTIMEZONE
TZID:UTC
BEGIN:STANDARD
TZOFFSETFROM:+0000
TZOFFSETTO:+0000
TZNAME:UTC
DTSTART:20170101T000000
END:STANDARD
END:VTIMEZONE
BEGIN:VEVENT
DTSTART;VALUE=DATE:20170407
DTEND;VALUE=DATE:20170430
DTSTAMP:20260423T225753
CREATED:20170330T161921Z
LAST-MODIFIED:20170330T161921Z
UID:19414-1491523200-1493510399@www.verdadeiroolhar.pt
SUMMARY:Lobos: “Um Uivo pela sobrevivência” em exposição
DESCRIPTION:Entre 7 e 29 de Abril\, a Biblioteca Municipal de Lousada recebe a exposição Lobos: “Um Uivo pela sobrevivência”\, pelo Grupo Lobo. \nÉ sobre a temática do lobo e da sua conservação e as formas de minimizar o conflito com o homem.
URL:https://www.verdadeiroolhar.pt/evento/lobos-um-uivo-pela-sobrevivencia-em-exposicao/
LOCATION:Biblioteca Municipal de Lousada\, Lousada
CATEGORIES:Cultura,Eventos Públicos
ATTACH;FMTTYPE=image/jpeg:https://www.verdadeiroolhar.pt/wp-content/uploads/2017/03/lobo.jpg
END:VEVENT
BEGIN:VEVENT
DTSTART;TZID=UTC:20170407T100000
DTEND;TZID=UTC:20170409T190000
DTSTAMP:20260423T225753
CREATED:20170316T114126Z
LAST-MODIFIED:20170403T095625Z
UID:18827-1491559200-1491764400@www.verdadeiroolhar.pt
SUMMARY:Feira da Saúde e Bem-Estar
DESCRIPTION:O pelouro da Saúde da Câmara Municipal de Paredes encontra-se a organizar uma Feira da Saúde e Bem-Estar que terá lugar nos dias 7\, 8 e 9 de Abril\, na Praça José Guilherme em Paredes. \nCom esta Feira de Saúde pretende-se que a população tenha acesso a informação acerca da prevenção da saúde e a alguns rastreios e diagnósticos\, bem como a palestras e actividades diversas\, desportivas e outras. \n 
URL:https://www.verdadeiroolhar.pt/evento/feira-da-saude-bem-estar/
LOCATION:Praça José Guilherme\, Paredes
CATEGORIES:Eventos Públicos
ATTACH;FMTTYPE=image/png:https://www.verdadeiroolhar.pt/wp-content/uploads/2017/03/feira_da_saude_e_bem_estar_1_1024_571.png
END:VEVENT
BEGIN:VEVENT
DTSTART;TZID=UTC:20170408T100000
DTEND;TZID=UTC:20170408T120000
DTSTAMP:20260423T225753
CREATED:20170330T144754Z
LAST-MODIFIED:20170330T144754Z
UID:19398-1491645600-1491652800@www.verdadeiroolhar.pt
SUMMARY:Baby Yoga na Biblioteca de Paredes
DESCRIPTION:A 8 de Abril\, a Biblioteca de Paredes recebe mais uma sessão de Baby Yoga\, da Oficina d’Ideias. \nHaverá duas sessões: às 10h15\, para bebés dos 7/8 aos 12 meses; e às 11h15\, para bebés dos 2 aos 7 meses. \nO custo é de 8 euros. A actividade só se realizará com um mínimo de três inscrições por sessão. É necessário trazer roupa confortável\, meias antiderrapantes e água.
URL:https://www.verdadeiroolhar.pt/evento/baby-yoga-na-biblioteca-paredes/
LOCATION:Biblioteca Municipal de Paredes\, Praça José Guilherme\, Paredes\, 4580
CATEGORIES:Eventos Públicos
ATTACH;FMTTYPE=image/png:https://www.verdadeiroolhar.pt/wp-content/uploads/2017/03/baby_yoga_timeline_1_1024_2500.png
END:VEVENT
BEGIN:VEVENT
DTSTART;TZID=UTC:20170408T100000
DTEND;TZID=UTC:20170409T200000
DTSTAMP:20260423T225753
CREATED:20170330T162743Z
LAST-MODIFIED:20170330T162743Z
UID:19420-1491645600-1491768000@www.verdadeiroolhar.pt
SUMMARY:Chocolate no Parque em Lousada
DESCRIPTION:A 8 e 9 de Abril o Parque Urbano Dr. Mário Fonseca recebe a iniciativa Chocolate no Parque. \nEm paralelo vai decorrer o concurso para o “Melhor Bolo de Chocolate de Lousada” e ainda actividades para os mais novos\, em especial a “Caça ao Ovo”.
URL:https://www.verdadeiroolhar.pt/evento/chocolate-no-parque-lousada/
LOCATION:Parque Urbano Dr. Mário Fonseca\, Avenida Amílcar Neto\, Lousada
CATEGORIES:Eventos Públicos
ATTACH;FMTTYPE=image/jpeg:https://www.verdadeiroolhar.pt/wp-content/uploads/2017/03/Chocolate.jpg
END:VEVENT
BEGIN:VEVENT
DTSTART;TZID=UTC:20170408T220000
DTEND;TZID=UTC:20170408T233000
DTSTAMP:20260423T225753
CREATED:20170331T104117Z
LAST-MODIFIED:20170331T104117Z
UID:19438-1491688800-1491694200@www.verdadeiroolhar.pt
SUMMARY:Noite de Fados a favor dos Bombeiros de Paço de Sousa
DESCRIPTION:No dia 8 de Abril\, pelas 22h00\, o salão nobre dos Bombeiros Voluntários de Paço de Sousa recebe uma Noite de Fados. \nA iniciativa pretende angariar verbas para a associação humanitária. O concerto dura aproximadamente 90 minutos. O custo é de seis euros por pessoa ou 20 euros para um grupo de quatro pessoas\, que dá acesso a uma mesa\, entradas e uma bebida. \nÉ preciso reserva. \n  \n 
URL:https://www.verdadeiroolhar.pt/evento/noite-fados-favor-dos-bombeiros-paco-sousa/
LOCATION:Quartel dos Bombeiros Voluntários Paço de Sousa\, Paço de Sousa\, Penafiel
CATEGORIES:Eventos Públicos
ATTACH;FMTTYPE=image/jpeg:https://www.verdadeiroolhar.pt/wp-content/uploads/2017/03/Noite-de-Fados.jpg
END:VEVENT
END:VCALENDAR