BEGIN:VCALENDAR
VERSION:2.0
PRODID:-//Verdadeiro Olhar - ECPv5.8.0//NONSGML v1.0//EN
CALSCALE:GREGORIAN
METHOD:PUBLISH
X-WR-CALNAME:Verdadeiro Olhar
X-ORIGINAL-URL:https://www.verdadeiroolhar.pt
X-WR-CALDESC:Events for Verdadeiro Olhar
BEGIN:VTIMEZONE
TZID:UTC
BEGIN:STANDARD
TZOFFSETFROM:+0000
TZOFFSETTO:+0000
TZNAME:UTC
DTSTART:20170101T000000
END:STANDARD
END:VTIMEZONE
BEGIN:VEVENT
DTSTART;TZID=UTC:20170319T110000
DTEND;TZID=UTC:20170319T120000
DTSTAMP:20260425T002028
CREATED:20170308T170638Z
LAST-MODIFIED:20170308T170638Z
UID:18598-1489921200-1489924800@www.verdadeiroolhar.pt
SUMMARY:"Que Histórias conta a Lua?" na Biblioteca de Paredes
DESCRIPTION:“Que Histórias conta a Lua?” é uma sessão de narração oral e música para bebés a partir dos três meses. \nA sessão\, com 45 minutos de duração\, vai ser promovida\, pelos O Som do Algodão\, no dia 19 de Março\, na Biblioteca Municipal de Paredes. \nInformações e reservas através do 255 788 976 ou pelo email biblioteca@nullcm-paredes.pt. \nO custo é de quatro euros por pessoa.
URL:https://www.verdadeiroolhar.pt/evento/historias-conta-lua-na-biblioteca-paredes/
LOCATION:Biblioteca Municipal de Paredes\, Praça José Guilherme\, Paredes\, 4580
CATEGORIES:Eventos Públicos
ATTACH;FMTTYPE=image/jpeg:https://www.verdadeiroolhar.pt/wp-content/uploads/2017/03/17021759_1340204416041025_745761357448559446_n.jpg
END:VEVENT
END:VCALENDAR