BEGIN:VCALENDAR
VERSION:2.0
PRODID:-//Verdadeiro Olhar - ECPv5.8.0//NONSGML v1.0//EN
CALSCALE:GREGORIAN
METHOD:PUBLISH
X-WR-CALNAME:Verdadeiro Olhar
X-ORIGINAL-URL:https://www.verdadeiroolhar.pt
X-WR-CALDESC:Events for Verdadeiro Olhar
BEGIN:VTIMEZONE
TZID:UTC
BEGIN:STANDARD
TZOFFSETFROM:+0000
TZOFFSETTO:+0000
TZNAME:UTC
DTSTART:20170101T000000
END:STANDARD
END:VTIMEZONE
BEGIN:VEVENT
DTSTART;TZID=UTC:20170308T100000
DTEND;TZID=UTC:20170308T123000
DTSTAMP:20260425T133755
CREATED:20170302T113912Z
LAST-MODIFIED:20170302T113912Z
UID:18307-1488967200-1488976200@www.verdadeiroolhar.pt
SUMMARY:Caminhada assinala Dia Internacional da Mulher
DESCRIPTION:No dia 8 de Março\, o município de Valongo assinala o Dia Internacional da Mulher com uma caminhada pelas ruas de Valongo\, seguida de uma aula de ginástica no Largo do Centenário. \nEsta iniciativa tem como objectivo sensibilizar a comunidade para os direitos das mulheres e para a eliminação de todas as formas de discriminação. \nO percurso terá sensivelmente 3 quilómetros\, com saída do Largo do Centenário\, às 10h15\, em direcção à Avª. 5 de Outubro\, seguindo depois até ao apeadeiro do Susão\, passando pela R. D. Pedro IV\, Rotunda 1º de Maio\, Avª 25 de abril\, Avª. Oliveira Zina\, Rua da Misericórdia\, Rua da Passagem\, Rua Padre Joaquim Lopes dos Reis (lateral Pingo Doce) e novamente Largo do Centenário. \nA chegada está prevista para as 10h45\, onde se realizará uma aula de ginástica de cerca de 40 minutos. \nEm caso de intempérie\, a caminhada será substituída por uma aula de ginástica\, a realizar no Pavilhão de Valongo.
URL:https://www.verdadeiroolhar.pt/evento/caminhada-assinala-dia-internacional-da-mulher/
LOCATION:Cidade de Valongo
CATEGORIES:Desporto,Eventos Públicos
ATTACH;FMTTYPE=image/jpeg:https://www.verdadeiroolhar.pt/wp-content/uploads/2017/03/17098593_1347882065275354_3151856522944076507_n.jpg
END:VEVENT
END:VCALENDAR