BEGIN:VCALENDAR
VERSION:2.0
PRODID:-//Verdadeiro Olhar - ECPv5.8.0//NONSGML v1.0//EN
CALSCALE:GREGORIAN
METHOD:PUBLISH
X-WR-CALNAME:Verdadeiro Olhar
X-ORIGINAL-URL:https://www.verdadeiroolhar.pt
X-WR-CALDESC:Events for Verdadeiro Olhar
BEGIN:VTIMEZONE
TZID:UTC
BEGIN:STANDARD
TZOFFSETFROM:+0000
TZOFFSETTO:+0000
TZNAME:UTC
DTSTART:20170101T000000
END:STANDARD
END:VTIMEZONE
BEGIN:VEVENT
DTSTART;TZID=UTC:20170818T223000
DTEND;TZID=UTC:20170818T233000
DTSTAMP:20260422T160640
CREATED:20170712T162254Z
LAST-MODIFIED:20170816T143057Z
UID:24414-1503095400-1503099000@www.verdadeiroolhar.pt
SUMMARY:Zé Amaro na Agrival 2017
DESCRIPTION:O artista Zé Amaro vai animar a noite do dia 18 de Agosto da 38.ª edição da Feira Agrícola do Vale do Sousa. \nPrograma: \n15h00 Abertura/Inauguração da Agrival/2017 \nPalco 2\n21H00 Rancho Folclórico S.Pedro Bela Vista – Galegos\n22H00 Rancho Folclórico Villa Bonelli – Boelhe\n23h00 Actuação da Banda ” Blueberries for Chemical” \n00h00 Dj Residente: Miguel Tika | Dj Convidado: Cancela\nPalco 1\n22h30 Actuação de Patrícia Teixeira – finalista do “The Voice”\n22h30 Concerto de Zé Amaro\n24h00 Encerramento\nMostra Nacional de Gastronomia > 12h00 à 01h30\n(entrada livre para a praça de gastronomia de 2.ª a 6.ª feira entre as 12h00 e as 14h00)
URL:https://www.verdadeiroolhar.pt/evento/ze-amaro-na-agrival-2017/
LOCATION:Penafiel
CATEGORIES:Eventos Públicos
ATTACH;FMTTYPE=image/jpeg:https://www.verdadeiroolhar.pt/wp-content/uploads/2017/07/19875147_1703542359940732_6940274923746031181_n.jpg
END:VEVENT
END:VCALENDAR