BEGIN:VCALENDAR
VERSION:2.0
PRODID:-//Verdadeiro Olhar - ECPv5.8.0//NONSGML v1.0//EN
CALSCALE:GREGORIAN
METHOD:PUBLISH
X-WR-CALNAME:Verdadeiro Olhar
X-ORIGINAL-URL:https://www.verdadeiroolhar.pt
X-WR-CALDESC:Events for Verdadeiro Olhar
BEGIN:VTIMEZONE
TZID:UTC
BEGIN:STANDARD
TZOFFSETFROM:+0000
TZOFFSETTO:+0000
TZNAME:UTC
DTSTART:20160101T000000
END:STANDARD
END:VTIMEZONE
BEGIN:VEVENT
DTSTART;TZID=UTC:20160710T110000
DTEND;TZID=UTC:20160710T120000
DTSTAMP:20260422T230034
CREATED:20160705T143413Z
LAST-MODIFIED:20160705T143413Z
UID:11040-1468148400-1468152000@www.verdadeiroolhar.pt
SUMMARY:"Yoga em Família" regressa à Biblioteca de Paredes
DESCRIPTION:“Yoga em Família” volta\, este domingo\, à Biblioteca Municipal de Paredes\, pelas 11h00. \nA actividade destina-se a crianças entre os dois e os 10 anos e será dividida em duas sessões\, à mesma hora. Uma das sessões destina-se a crianças entre os dois e os quatro anos e será dinamizada por Inês Vaz. A outra sessão será dinamizada por Ana Cristina Costa e destina-se a crianças entre os cinco e os 10 anos. \nA participação tem o custo de 8 euros por criança  e as inscrições podem ser feitas para o número 255 788 976 ou para o e-mail: biblioteca@nullcm-paredes.pt \n 
URL:https://www.verdadeiroolhar.pt/evento/yoga-familia-regressa-biblioteca-paredes/
LOCATION:Biblioteca Municipal de Paredes\, Praça José Guilherme\, Paredes\, 4580
CATEGORIES:Eventos Públicos
ATTACH;FMTTYPE=image/jpeg:https://www.verdadeiroolhar.pt/wp-content/uploads/2016/07/13558646_1236643863043107_5147046277286785694_o.jpg
END:VEVENT
END:VCALENDAR