BEGIN:VCALENDAR
VERSION:2.0
PRODID:-//Verdadeiro Olhar - ECPv5.8.0//NONSGML v1.0//EN
CALSCALE:GREGORIAN
METHOD:PUBLISH
X-WR-CALNAME:Verdadeiro Olhar
X-ORIGINAL-URL:https://www.verdadeiroolhar.pt
X-WR-CALDESC:Events for Verdadeiro Olhar
BEGIN:VTIMEZONE
TZID:UTC
BEGIN:STANDARD
TZOFFSETFROM:+0000
TZOFFSETTO:+0000
TZNAME:UTC
DTSTART:20170101T000000
END:STANDARD
END:VTIMEZONE
BEGIN:VEVENT
DTSTART;TZID=UTC:20170729T093000
DTEND;TZID=UTC:20170729T233000
DTSTAMP:20260423T141954
CREATED:20170718T110015Z
LAST-MODIFIED:20170718T110015Z
UID:24670-1501320600-1501371000@www.verdadeiroolhar.pt
SUMMARY:XXXIII Festival de Folclore Internacional Cidade de Penafiel
DESCRIPTION:O Grupo Folclórico de Penafiel organiza\, a 29 de Julho\, pelas 21h00\, o XXXIII Festival de Folclore Internacional Cidade de Penafiel. \nO evento terá como palco o Campo da Feira e contará com as actuações do Grupo de Bombos de Recesinhos\, de S. Mamede\, Penafiel; do Grupo Folclórico Cefeiras e Campinos da SFUS\, de Samora Correia; do Grupo de Danzas Pisuerga\, de Valladolid; do Rancho Folclórico de Danças e Cantares de Paçô\, de Arcos de Valdevez; e do Rancho Folclórico As Lavradeiras de Penamaior\, de Paços de Ferreira\, além do grupo anfitrião.
URL:https://www.verdadeiroolhar.pt/evento/xxxiii-festival-folclore-internacional-cidade-penafiel/
LOCATION:Campo da Feira\, Lousada
CATEGORIES:Cultura,Eventos Públicos
ATTACH;FMTTYPE=image/jpeg:https://www.verdadeiroolhar.pt/wp-content/uploads/2017/07/DSC_0047.jpg
END:VEVENT
END:VCALENDAR