BEGIN:VCALENDAR
VERSION:2.0
PRODID:-//Verdadeiro Olhar - ECPv5.8.0//NONSGML v1.0//EN
CALSCALE:GREGORIAN
METHOD:PUBLISH
X-WR-CALNAME:Verdadeiro Olhar
X-ORIGINAL-URL:https://www.verdadeiroolhar.pt
X-WR-CALDESC:Events for Verdadeiro Olhar
BEGIN:VTIMEZONE
TZID:UTC
BEGIN:STANDARD
TZOFFSETFROM:+0000
TZOFFSETTO:+0000
TZNAME:UTC
DTSTART:20180101T000000
END:STANDARD
END:VTIMEZONE
BEGIN:VEVENT
DTSTART;TZID=UTC:20180311T090000
DTEND;TZID=UTC:20180311T130000
DTSTAMP:20260421T231137
CREATED:20180124T133804Z
LAST-MODIFIED:20180124T133822Z
UID:34127-1520758800-1520773200@www.verdadeiroolhar.pt
SUMMARY:XV Passeio BTT da delegação da Cruz Vermelha de Frazão
DESCRIPTION:No dia 11 de Março\, a delegação de Frazão da Cruz Vermelha Portuguesa organiza o XV Passeio BTT. \nA actividade\, de carácter anual\, tem como objectivo a angariação de fundos para aquisição de material de socorro e outros produtos essenciais às actividades da instituição. \n“Todos os atletas ao participarem\, contribuem para esta causa que para além do convívio saudável\, mostra também belíssimas paisagens no concelho de Paços de Ferreira\, promovendo o bem estar para uma prática de desporto saudável e o contacto com a natureza”\, promete a delegação de Frazão. \nOs participantes recebem ainda brindes oferecidos por patrocinadores. Às 13h00 há uma feijoada e churrasco. \nA prova arranca pelas 9h00 e conta com 30 quilómetros de percurso. As inscrições\, que podem ser feitas até ao dia 10 de Fevereiro\, custam 10 euros para participantes e cinco euros para acompanhantes.
URL:https://www.verdadeiroolhar.pt/evento/xv-passeio-btt-da-delegacao-da-cruz-vermelha-frazao/
LOCATION:Frazão\, Rua da Agra\, 402\, Frazão\, Paços de Ferreira\, 4590-087
CATEGORIES:Desporto,Eventos Públicos
ATTACH;FMTTYPE=image/jpeg:https://www.verdadeiroolhar.pt/wp-content/uploads/2018/01/BTT-Frazão.jpg
ORGANIZER;CN="Cruz%20Vermelha%20Portuguesa%20-%20delega%C3%A7%C3%A3o%20de%20Fraz%C3%A3o":MAILTO:dfrazao@cruzvermelha.org.pt
END:VEVENT
END:VCALENDAR