BEGIN:VCALENDAR
VERSION:2.0
PRODID:-//Verdadeiro Olhar - ECPv5.8.0//NONSGML v1.0//EN
CALSCALE:GREGORIAN
METHOD:PUBLISH
X-WR-CALNAME:Verdadeiro Olhar
X-ORIGINAL-URL:https://www.verdadeiroolhar.pt
X-WR-CALDESC:Events for Verdadeiro Olhar
BEGIN:VTIMEZONE
TZID:UTC
BEGIN:STANDARD
TZOFFSETFROM:+0000
TZOFFSETTO:+0000
TZNAME:UTC
DTSTART:20160101T000000
END:STANDARD
END:VTIMEZONE
BEGIN:VEVENT
DTSTART;TZID=UTC:20160705T143000
DTEND;TZID=UTC:20160705T160500
DTSTAMP:20260422T170257
CREATED:20160705T173756Z
LAST-MODIFIED:20160705T173756Z
UID:11102-1467729000-1467734700@www.verdadeiroolhar.pt
SUMMARY:Wall.E em exibição na Biblioteca de Penafiel
DESCRIPTION:O filme de animação “Wall.E” estará em exibição na Biblioteca Municipal de Penafiel\, no dia 27\, pelas 14h30. \nO auditório acolherá esta versão falada em português durante 95 minutos\, sendo que a participação está sujeita a marcação prévia. \n 
URL:https://www.verdadeiroolhar.pt/evento/wall-exibicao-na-biblioteca-penafiel/
LOCATION:Biblioteca Municipal de Penafiel\, Avenida Egas Moniz\, Penafiel\, Portugal
CATEGORIES:Cultura
ATTACH;FMTTYPE=image/jpeg:https://www.verdadeiroolhar.pt/wp-content/uploads/2016/07/Wall.E-e1467740243552.jpg
END:VEVENT
END:VCALENDAR