BEGIN:VCALENDAR
VERSION:2.0
PRODID:-//Verdadeiro Olhar - ECPv5.8.0//NONSGML v1.0//EN
CALSCALE:GREGORIAN
METHOD:PUBLISH
X-WR-CALNAME:Verdadeiro Olhar
X-ORIGINAL-URL:https://www.verdadeiroolhar.pt
X-WR-CALDESC:Events for Verdadeiro Olhar
BEGIN:VTIMEZONE
TZID:UTC
BEGIN:STANDARD
TZOFFSETFROM:+0000
TZOFFSETTO:+0000
TZNAME:UTC
DTSTART:20160101T000000
END:STANDARD
END:VTIMEZONE
BEGIN:VEVENT
DTSTART;TZID=UTC:20161015T180000
DTEND;TZID=UTC:20161015T193000
DTSTAMP:20260425T134100
CREATED:20161004T132345Z
LAST-MODIFIED:20161012T113347Z
UID:14004-1476554400-1476559800@www.verdadeiroolhar.pt
SUMMARY:Vida e obra de Mário Fonseca em livro
DESCRIPTION:“Silêncio” é o título do livro que retrata a vida e obra de Mário Fonseca\, já falecido\, e que vai ser apresentado no dia 15 de Outubro. \nA obra\, da autoria de José Carlos Carvalheiras\, vai ser apresentada na Biblioteca Municipal\, pelas 18h00. \nMário Fonseca foi um médico e político do concelho de Lousada. \nEste livro “é um hino ao bairrismo e à solidariedade através de crónicas de viagens\, poesia\, histórias da vida de médico e artigos de opinião”.
URL:https://www.verdadeiroolhar.pt/evento/vida-obra-mario-fonseca-livro/
LOCATION:Biblioteca Municipal de Lousada\, Lousada
CATEGORIES:Cultura
ATTACH;FMTTYPE=image/png:https://www.verdadeiroolhar.pt/wp-content/uploads/2016/10/Lançamento-livro-Silêncio.png
END:VEVENT
END:VCALENDAR