BEGIN:VCALENDAR
VERSION:2.0
PRODID:-//Verdadeiro Olhar - ECPv5.8.0//NONSGML v1.0//EN
CALSCALE:GREGORIAN
METHOD:PUBLISH
X-WR-CALNAME:Verdadeiro Olhar
X-ORIGINAL-URL:https://www.verdadeiroolhar.pt
X-WR-CALDESC:Events for Verdadeiro Olhar
BEGIN:VTIMEZONE
TZID:UTC
BEGIN:STANDARD
TZOFFSETFROM:+0000
TZOFFSETTO:+0000
TZNAME:UTC
DTSTART:20160101T000000
END:STANDARD
END:VTIMEZONE
BEGIN:VEVENT
DTSTART;TZID=UTC:20160703T160000
DTEND;TZID=UTC:20160703T180000
DTSTAMP:20260422T135213
CREATED:20160701T174148Z
LAST-MODIFIED:20160701T174148Z
UID:10914-1467561600-1467568800@www.verdadeiroolhar.pt
SUMMARY:V Gala de Coros Juvenis no Fórum de Ermesinde
DESCRIPTION:Este domingo\, dia 3\, o Fórum Cultural de Ermesinde recebe a V Gala de Coros Juvenis.\nDas 16h00 às 18h00\, sobem ao palco os grupos corais juvenis ÍrisCorus\, Arco-Íris\, Clavezinha de Sol e os Pequenos Cantores de Santo Tirso.
URL:https://www.verdadeiroolhar.pt/evento/v-gala-coros-juvenis-no-forum-ermesinde/
LOCATION:Fórum Cultural de Ermesinde\, Rua Fábrica da Cerâmica\, Valongo
CATEGORIES:Cultura,Eventos Públicos
ATTACH;FMTTYPE=image/jpeg:https://www.verdadeiroolhar.pt/wp-content/uploads/2016/07/Gala_Coros_Cartaz-e1467394806944.jpg
END:VEVENT
END:VCALENDAR