BEGIN:VCALENDAR
VERSION:2.0
PRODID:-//Verdadeiro Olhar - ECPv5.8.0//NONSGML v1.0//EN
CALSCALE:GREGORIAN
METHOD:PUBLISH
X-WR-CALNAME:Verdadeiro Olhar
X-ORIGINAL-URL:https://www.verdadeiroolhar.pt
X-WR-CALDESC:Events for Verdadeiro Olhar
BEGIN:VTIMEZONE
TZID:UTC
BEGIN:STANDARD
TZOFFSETFROM:+0000
TZOFFSETTO:+0000
TZNAME:UTC
DTSTART:20160101T000000
END:STANDARD
END:VTIMEZONE
BEGIN:VEVENT
DTSTART;TZID=UTC:20160624T210000
DTEND;TZID=UTC:20160624T230000
DTSTAMP:20260421T130337
CREATED:20160606T144242Z
LAST-MODIFIED:20160606T144242Z
UID:9672-1466802000-1466809200@www.verdadeiroolhar.pt
SUMMARY:Tuna da Universidade Sénior de Lousada vai dar espectáculo
DESCRIPTION:No dia 24\, sexta-feira\, o Auditório Municipal de Lousada recebe a tuna da Universidade Sénior da cidade\, a partir das 21h00.
URL:https://www.verdadeiroolhar.pt/evento/tuna-da-universidade-senior-lousada-vai-dar-espectaculo/
LOCATION:Auditório Municipal de Lousada\, Qtª das Pocinhas\, Lousada\, 4620-674\, Portugal
CATEGORIES:Cultura,Eventos Públicos
ATTACH;FMTTYPE=image/jpeg:https://www.verdadeiroolhar.pt/wp-content/uploads/2016/06/img_1406-1.jpg
END:VEVENT
END:VCALENDAR