BEGIN:VCALENDAR
VERSION:2.0
PRODID:-//Verdadeiro Olhar - ECPv5.8.0//NONSGML v1.0//EN
CALSCALE:GREGORIAN
METHOD:PUBLISH
X-WR-CALNAME:Verdadeiro Olhar
X-ORIGINAL-URL:https://www.verdadeiroolhar.pt
X-WR-CALDESC:Events for Verdadeiro Olhar
BEGIN:VTIMEZONE
TZID:UTC
BEGIN:STANDARD
TZOFFSETFROM:+0000
TZOFFSETTO:+0000
TZNAME:UTC
DTSTART:20160101T000000
END:STANDARD
END:VTIMEZONE
BEGIN:VEVENT
DTSTART;VALUE=DATE:20160917
DTEND;VALUE=DATE:20160919
DTSTAMP:20260424T185311
CREATED:20160906T164220Z
LAST-MODIFIED:20160906T164220Z
UID:12926-1474070400-1474243199@www.verdadeiroolhar.pt
SUMMARY:Troféu de Resistência CAL - 5 horas
DESCRIPTION:Nos dias 17 e 18 Setembro\, o Eurocircuito de Lousada recebe o Troféu de Resistência CAL – 5 horas. \nA entrada é livre.\nA organização é do Clube Automóvel de Lousada.
URL:https://www.verdadeiroolhar.pt/evento/trofeu-resistencia-cal-5-horas/
LOCATION:Eurocircuito da Costilha\, Lousada
CATEGORIES:Desporto,Eventos Públicos
ATTACH;FMTTYPE=image/jpeg:https://www.verdadeiroolhar.pt/wp-content/uploads/2016/09/trofeu.jpg
END:VEVENT
END:VCALENDAR