BEGIN:VCALENDAR
VERSION:2.0
PRODID:-//Verdadeiro Olhar - ECPv5.8.0//NONSGML v1.0//EN
CALSCALE:GREGORIAN
METHOD:PUBLISH
X-WR-CALNAME:Verdadeiro Olhar
X-ORIGINAL-URL:https://www.verdadeiroolhar.pt
X-WR-CALDESC:Events for Verdadeiro Olhar
BEGIN:VTIMEZONE
TZID:UTC
BEGIN:STANDARD
TZOFFSETFROM:+0000
TZOFFSETTO:+0000
TZNAME:UTC
DTSTART:20160101T000000
END:STANDARD
END:VTIMEZONE
BEGIN:VEVENT
DTSTART;VALUE=DATE:20160731
DTEND;VALUE=DATE:20160801
DTSTAMP:20260423T064757
CREATED:20160705T172015Z
LAST-MODIFIED:20160705T172015Z
UID:11094-1469923200-1470009599@www.verdadeiroolhar.pt
SUMMARY:Trail de Santa Justa
DESCRIPTION:No último dia do mês\, domingo\, Valongo acolhe o Trail de Santa Justa.
URL:https://www.verdadeiroolhar.pt/evento/trail-santa-justa/
LOCATION:Cidade de Valongo
CATEGORIES:Desporto,Eventos Públicos
ATTACH;FMTTYPE=image/jpeg:https://www.verdadeiroolhar.pt/wp-content/uploads/2016/07/trail.jpg
END:VEVENT
END:VCALENDAR