BEGIN:VCALENDAR
VERSION:2.0
PRODID:-//Verdadeiro Olhar - ECPv5.8.0//NONSGML v1.0//EN
CALSCALE:GREGORIAN
METHOD:PUBLISH
X-WR-CALNAME:Verdadeiro Olhar
X-ORIGINAL-URL:https://www.verdadeiroolhar.pt
X-WR-CALDESC:Events for Verdadeiro Olhar
BEGIN:VTIMEZONE
TZID:UTC
BEGIN:STANDARD
TZOFFSETFROM:+0000
TZOFFSETTO:+0000
TZNAME:UTC
DTSTART:20170101T000000
END:STANDARD
END:VTIMEZONE
BEGIN:VEVENT
DTSTART;TZID=UTC:20171209T193000
DTEND;TZID=UTC:20171209T233000
DTSTAMP:20260422T115702
CREATED:20170925T115836Z
LAST-MODIFIED:20170925T115836Z
UID:27684-1512847800-1512862200@www.verdadeiroolhar.pt
SUMMARY:Trail Nocturno de Valongo em Dezembro
DESCRIPTION:O Trail Nocturno de Valongo é o mais antigo trail nocturno da região. A quinta edição desta prova realiza-se a 9 de Dezembro a partir das 19h30. \nHaverá um trail de 20 quilómetros\, um mini trail de 10 quilómetros e uma caminhada de 8 quilómetros. \nAs inscrições estão limitadas a 700 atletas. \nA prova integra o Circuito dos Trilhos Valongo. No final haverá caldo verde\, bifanas e cerveja para todos os atletas\, refere a organização\, a KeMedo Team.
URL:https://www.verdadeiroolhar.pt/evento/trail-nocturno-valongo-dezembro/
LOCATION:Largo do Centenário\, 4440-508 Valongo\, Valongo
CATEGORIES:Desporto
ATTACH;FMTTYPE=image/jpeg:https://www.verdadeiroolhar.pt/wp-content/uploads/2017/09/21617469_1462036923842545_4220130253517526522_n.jpg
END:VEVENT
END:VCALENDAR