BEGIN:VCALENDAR
VERSION:2.0
PRODID:-//Verdadeiro Olhar - ECPv5.8.0//NONSGML v1.0//EN
CALSCALE:GREGORIAN
METHOD:PUBLISH
X-WR-CALNAME:Verdadeiro Olhar
X-ORIGINAL-URL:https://www.verdadeiroolhar.pt
X-WR-CALDESC:Events for Verdadeiro Olhar
BEGIN:VTIMEZONE
TZID:UTC
BEGIN:STANDARD
TZOFFSETFROM:+0000
TZOFFSETTO:+0000
TZNAME:UTC
DTSTART:20170101T000000
END:STANDARD
END:VTIMEZONE
BEGIN:VEVENT
DTSTART;TZID=UTC:20170903T080000
DTEND;TZID=UTC:20170903T170000
DTSTAMP:20260421T093058
CREATED:20170816T103406Z
LAST-MODIFIED:20170816T103406Z
UID:25956-1504425600-1504458000@www.verdadeiroolhar.pt
SUMMARY:Trail dos 4 Caminhos 2017
DESCRIPTION:O Trail dos 4 Caminhos volta em Setembro. É um evento de trail-running que percorre trilhos e caminhos na serra de Alfena no concelho de Valongo e será a 3.ª etapa do Circuito de Trilhos de Valongo. \nO evento junta à competição e lazer a vertente solidária. A 5.ª edição realiza-se no dia 3 de Setembro e será constituído por quatro provas: um Trail Longo (23 quilómetros)\, um Trail Curto (13 quilómetros)\, uma caminhada (9 quilómetros) e um Kids Trail. \nDo valor da inscrição nas provas de corrida Trail Longo e Trail Curto reverte um euro para os Bombeiros Voluntários de Ermesinde. As inscrições podem ser feitas na Lap2Go.
URL:https://www.verdadeiroolhar.pt/evento/trail-dos-4-caminhos-2017/
LOCATION:Alfena\, Alfena\, Valongo\, Portugal
CATEGORIES:Desporto
ATTACH;FMTTYPE=image/png:https://www.verdadeiroolhar.pt/wp-content/uploads/2017/08/15622313_665845410261455_1789263024433785735_n.png
END:VEVENT
END:VCALENDAR