BEGIN:VCALENDAR
VERSION:2.0
PRODID:-//Verdadeiro Olhar - ECPv5.8.0//NONSGML v1.0//EN
CALSCALE:GREGORIAN
METHOD:PUBLISH
X-WR-CALNAME:Verdadeiro Olhar
X-ORIGINAL-URL:https://www.verdadeiroolhar.pt
X-WR-CALDESC:Events for Verdadeiro Olhar
BEGIN:VTIMEZONE
TZID:UTC
BEGIN:STANDARD
TZOFFSETFROM:+0000
TZOFFSETTO:+0000
TZNAME:UTC
DTSTART:20170101T000000
END:STANDARD
END:VTIMEZONE
BEGIN:VEVENT
DTSTART;TZID=UTC:20170521T090000
DTEND;TZID=UTC:20170521T120000
DTSTAMP:20260421T153522
CREATED:20170517T090856Z
LAST-MODIFIED:20170517T090856Z
UID:21085-1495357200-1495368000@www.verdadeiroolhar.pt
SUMMARY:Trail do Coração em Gandra
DESCRIPTION:A 10.ª edição da Corrida do Coração chega\, este domingo\, a Gandra\, em Paredes\, com um “trail” de cariz competitivo e uma caminhada. \nO “trail” de 23 quilómetros\, começa às 9h00 . A par do “trail”\, haverá o “mini-trail” com 12 quilómetros e a caminhada de sete quilómetros . O percurso será feito por caminhos e trilhos da freguesia com início e fim no Complexo Desportivo Cidade de Gandra.
URL:https://www.verdadeiroolhar.pt/evento/trail-do-coracao-gandra/
LOCATION:Gandra\, Gandra\, Paredes
CATEGORIES:Desporto,Eventos Públicos
ATTACH;FMTTYPE=image/jpeg:https://www.verdadeiroolhar.pt/wp-content/uploads/2017/05/banner.jpg
END:VEVENT
END:VCALENDAR