BEGIN:VCALENDAR
VERSION:2.0
PRODID:-//Verdadeiro Olhar - ECPv5.8.0//NONSGML v1.0//EN
CALSCALE:GREGORIAN
METHOD:PUBLISH
X-WR-CALNAME:Verdadeiro Olhar
X-ORIGINAL-URL:https://www.verdadeiroolhar.pt
X-WR-CALDESC:Events for Verdadeiro Olhar
BEGIN:VTIMEZONE
TZID:UTC
BEGIN:STANDARD
TZOFFSETFROM:+0000
TZOFFSETTO:+0000
TZNAME:UTC
DTSTART:20170101T000000
END:STANDARD
END:VTIMEZONE
BEGIN:VEVENT
DTSTART;TZID=UTC:20170527T080000
DTEND;TZID=UTC:20170528T150000
DTSTAMP:20260421T080653
CREATED:20170523T083719Z
LAST-MODIFIED:20170525T135016Z
UID:21396-1495872000-1495983600@www.verdadeiroolhar.pt
SUMMARY:Trail da Raposa em Paredes
DESCRIPTION:O “Trail da Raposa” é uma prova de Trail Running\, organizada pela ParJovem – Associação Juvenil do Concelho de Paredes\, com partida e chegada no Parque José Guilherme\, sendo o trajecto recheado de diversos pontos de desafio\, diversão e beleza. \nEntre os dias 27 e 28 de Maio de 2017 decorrem vários eventos desportivos que irão percorrer caminhos e trilhos sinalizados do concelho de Paredes. \nVai decorrer o trail longo (com a distância de 33 quilómetros)\, o trail (com a distância de 19 quilómetros) e a corrida/caminhada (com a distância de 14 quilómetros). \n 
URL:https://www.verdadeiroolhar.pt/evento/trail-da-raposa-em-paredes/
LOCATION:Cidade de Paredes\, Paredes\, Portugal
CATEGORIES:Desporto,Eventos Públicos
ATTACH;FMTTYPE=image/png:https://www.verdadeiroolhar.pt/wp-content/uploads/2017/05/Trail-da-Raposa.png
END:VEVENT
END:VCALENDAR