BEGIN:VCALENDAR
VERSION:2.0
PRODID:-//Verdadeiro Olhar - ECPv5.8.0//NONSGML v1.0//EN
CALSCALE:GREGORIAN
METHOD:PUBLISH
X-WR-CALNAME:Verdadeiro Olhar
X-ORIGINAL-URL:https://www.verdadeiroolhar.pt
X-WR-CALDESC:Events for Verdadeiro Olhar
BEGIN:VTIMEZONE
TZID:UTC
BEGIN:STANDARD
TZOFFSETFROM:+0000
TZOFFSETTO:+0000
TZNAME:UTC
DTSTART:20170101T000000
END:STANDARD
END:VTIMEZONE
BEGIN:VEVENT
DTSTART;VALUE=DATE:20170721
DTEND;VALUE=DATE:20170724
DTSTAMP:20260422T183236
CREATED:20170703T095355Z
LAST-MODIFIED:20170703T095355Z
UID:23690-1500595200-1500854399@www.verdadeiroolhar.pt
SUMMARY:Torneio de Verão de Hóquei em Patins em Valongo
DESCRIPTION:  \nO Pavilhão Municipal de Valongo vai receber\, nos dias 21\, 22 e 23 de Julho\, o 4.º Torneio de Verão de Hóquei em Patins “César Fidalgo”. \nNo domingo\, dia 23\, irão jogar algumas das maiores estrelas do hóquei mundial.
URL:https://www.verdadeiroolhar.pt/evento/torneio-verao-hoquei-patins-valongo/
LOCATION:Pavilhão Municipal de Valongo\, Valongo\, Portugal
CATEGORIES:Desporto,Eventos Públicos
ATTACH;FMTTYPE=image/jpeg:https://www.verdadeiroolhar.pt/wp-content/uploads/2017/07/Cartaz_Oficial_2017_1_768_978.jpg
END:VEVENT
END:VCALENDAR