BEGIN:VCALENDAR
VERSION:2.0
PRODID:-//Verdadeiro Olhar - ECPv5.8.0//NONSGML v1.0//EN
CALSCALE:GREGORIAN
METHOD:PUBLISH
X-WR-CALNAME:Verdadeiro Olhar
X-ORIGINAL-URL:https://www.verdadeiroolhar.pt
X-WR-CALDESC:Events for Verdadeiro Olhar
BEGIN:VTIMEZONE
TZID:UTC
BEGIN:STANDARD
TZOFFSETFROM:+0000
TZOFFSETTO:+0000
TZNAME:UTC
DTSTART:20160101T000000
END:STANDARD
END:VTIMEZONE
BEGIN:VEVENT
DTSTART;TZID=UTC:20161105T213000
DTEND;TZID=UTC:20161105T235500
DTSTAMP:20260426T032532
CREATED:20161031T100245Z
LAST-MODIFIED:20161031T100245Z
UID:14851-1478381400-1478390100@www.verdadeiroolhar.pt
SUMMARY:TocATocar no Fórum Cultural de Ermesinde
DESCRIPTION:O Fórum Cultural de Ermesinde recebe\, no dia 5 de Novembro\, pelas 21h30\, o concerto TocATocar\, de Música Tradicional Portuguesa. \nA iniciativa é organizada pela Associação Académica e Cultural de Ermesinde\, para assinalar o seu 13.º aniversário. Os grupos convidados são os Voz Ligeira e os Íris Corus. \nPode ser feita reserva através dos contactos: 934842166 ou 936131777.
URL:https://www.verdadeiroolhar.pt/evento/tocatocar-no-forum-cultural-ermesinde/
LOCATION:Fórum Cultural de Ermesinde\, Rua Fábrica da Cerâmica\, Valongo
CATEGORIES:Cultura
ATTACH;FMTTYPE=image/jpeg:https://www.verdadeiroolhar.pt/wp-content/uploads/2016/10/GMTP.jpg
END:VEVENT
END:VCALENDAR