BEGIN:VCALENDAR
VERSION:2.0
PRODID:-//Verdadeiro Olhar - ECPv5.8.0//NONSGML v1.0//EN
CALSCALE:GREGORIAN
METHOD:PUBLISH
X-WR-CALNAME:Verdadeiro Olhar
X-ORIGINAL-URL:https://www.verdadeiroolhar.pt
X-WR-CALDESC:Events for Verdadeiro Olhar
BEGIN:VTIMEZONE
TZID:UTC
BEGIN:STANDARD
TZOFFSETFROM:+0000
TZOFFSETTO:+0000
TZNAME:UTC
DTSTART:20160101T000000
END:STANDARD
END:VTIMEZONE
BEGIN:VEVENT
DTSTART;TZID=UTC:20160827T100000
DTEND;TZID=UTC:20160828T000000
DTSTAMP:20260424T011203
CREATED:20160808T153446Z
LAST-MODIFIED:20160808T153622Z
UID:12258-1472292000-1472342400@www.verdadeiroolhar.pt
SUMMARY:The Gift na Agrival 2016
DESCRIPTION:Agrival 2016: 37.ª Feira Agrícola do Vale do Sousa \nDia da Galiza\n10h00 Abertura\n10h00 4.º Capítulo da Confraria do Presunto e Cebola do Vale do Sousa (Igreja da Misericórdia) \nPalco Intermarché    \n17h00 Grupo de Concertinas “Os Encantos do Douro”\n18h00 Grupo de Cavaquinhos ADISCREP\n19h00 Grupo Folclórico Zé do Telhado\n21h00 Rancho Folclórico do C. S. Abragão\n22h00 Rancho Folclórico S. Mamede de Canelas\n23h00 Grupo “PYT”\n00h30 Dj Residente: Miguel Tika | Dj Convidado: Arpi \nPalco McDonald’s Penafiel\n22h00 Neno\n22h30 Concerto de The Gift \n24h00 Encerramento \nDurante todo o certame pode visitar a 15.ª Mostra Nacional de Gastronomia\, entre as 12h00 e a 1h30. A entrada é livre\, para a praça de gastronomia\, de 2.ª a 6.ª feira entre as 12h00 e as 14h00.
URL:https://www.verdadeiroolhar.pt/evento/the-gift-na-agrival-2016/
LOCATION:Pavilhão de Feiras e Exposições\, Rua D. António Ferreira Gomes\, Penafiel\, 4560-568
CATEGORIES:Cultura,Eventos Públicos
ATTACH;FMTTYPE=image/jpeg:https://www.verdadeiroolhar.pt/wp-content/uploads/2016/08/TheGift.jpg
END:VEVENT
END:VCALENDAR