BEGIN:VCALENDAR
VERSION:2.0
PRODID:-//Verdadeiro Olhar - ECPv5.8.0//NONSGML v1.0//EN
CALSCALE:GREGORIAN
METHOD:PUBLISH
X-WR-CALNAME:Verdadeiro Olhar
X-ORIGINAL-URL:https://www.verdadeiroolhar.pt
X-WR-CALDESC:Events for Verdadeiro Olhar
BEGIN:VTIMEZONE
TZID:UTC
BEGIN:STANDARD
TZOFFSETFROM:+0000
TZOFFSETTO:+0000
TZNAME:UTC
DTSTART:20170101T000000
END:STANDARD
END:VTIMEZONE
BEGIN:VEVENT
DTSTART;TZID=UTC:20170723T163000
DTEND;TZID=UTC:20170723T183000
DTSTAMP:20260423T064517
CREATED:20170718T140651Z
LAST-MODIFIED:20170718T140651Z
UID:24699-1500827400-1500834600@www.verdadeiroolhar.pt
SUMMARY:Teatro Treta apresenta "Pitalândia"
DESCRIPTION:O Teatro Treta leva mais uma vez a cena a peça Pitalândia\, na Casa da Vinha\, junto às Piscinas de Recarei\, em Paredes. \nO espectáculo\, uma comédia de Sofia Gomes\, decorrerá no dia 23\, pelas 16h30.
URL:https://www.verdadeiroolhar.pt/evento/teatro-treta-apresenta-pitalandia-2/
LOCATION:Recarei\, Paredes
CATEGORIES:Cultura
ATTACH;FMTTYPE=image/jpeg:https://www.verdadeiroolhar.pt/wp-content/uploads/2017/07/20046558_466218867089145_1562272973578824008_n.jpg
END:VEVENT
END:VCALENDAR