BEGIN:VCALENDAR
VERSION:2.0
PRODID:-//Verdadeiro Olhar - ECPv5.8.0//NONSGML v1.0//EN
CALSCALE:GREGORIAN
METHOD:PUBLISH
X-WR-CALNAME:Verdadeiro Olhar
X-ORIGINAL-URL:https://www.verdadeiroolhar.pt
X-WR-CALDESC:Events for Verdadeiro Olhar
BEGIN:VTIMEZONE
TZID:UTC
BEGIN:STANDARD
TZOFFSETFROM:+0000
TZOFFSETTO:+0000
TZNAME:UTC
DTSTART:20180101T000000
END:STANDARD
END:VTIMEZONE
BEGIN:VEVENT
DTSTART;TZID=UTC:20180323T213000
DTEND;TZID=UTC:20180323T230000
DTSTAMP:20260422T154815
CREATED:20180306T161337Z
LAST-MODIFIED:20180306T161337Z
UID:36391-1521840600-1521846000@www.verdadeiroolhar.pt
SUMMARY:Teatro "Pinturas e Travessuras" na Biblioteca de Penafiel
DESCRIPTION:No âmbito das comemorações do Dia Mundial do Teatro\, assinalado a 27 de Março\, decorre\, uns dias antes\, a 23 de Março\, pelas 21h30\, a apresentação da peça de teatro “Pinturas e Travessuras”. \nTrata-se de um espectáculo a partir da obra de Dario Fo com encenação pelo Grupo de Teatro Os Expansivos de Lordelo.  \n 
URL:https://www.verdadeiroolhar.pt/evento/teatro-pinturas-travessuras-na-biblioteca-penafiel/
LOCATION:Biblioteca Municipal de Penafiel\, Avenida Egas Moniz\, Penafiel\, Portugal
CATEGORIES:Cultura,Eventos Públicos
ATTACH;FMTTYPE=image/jpeg:https://www.verdadeiroolhar.pt/wp-content/uploads/2017/09/Biblioteca-de-Penafiel-rua-3.jpg
END:VEVENT
END:VCALENDAR