BEGIN:VCALENDAR
VERSION:2.0
PRODID:-//Verdadeiro Olhar - ECPv5.8.0//NONSGML v1.0//EN
CALSCALE:GREGORIAN
METHOD:PUBLISH
X-WR-CALNAME:Verdadeiro Olhar
X-ORIGINAL-URL:https://www.verdadeiroolhar.pt
X-WR-CALDESC:Events for Verdadeiro Olhar
BEGIN:VTIMEZONE
TZID:UTC
BEGIN:STANDARD
TZOFFSETFROM:+0000
TZOFFSETTO:+0000
TZNAME:UTC
DTSTART:20180101T000000
END:STANDARD
END:VTIMEZONE
BEGIN:VEVENT
DTSTART;VALUE=DATE:20180412
DTEND;VALUE=DATE:20180413
DTSTAMP:20260423T131418
CREATED:20180409T134206Z
LAST-MODIFIED:20180409T134206Z
UID:38561-1523491200-1523577599@www.verdadeiroolhar.pt
SUMMARY:Teatro: Papalagui no Auditório de Campo
DESCRIPTION:O auditório de Campo\, em Valongo\, acolhe\, no dia 12\, a peça de teatro Papalagui sob a direcção artística de Hugo Sousa. \nA iniciativa decorre no âmbito do projecto Papalagui E6G\, coordenado pelo Centro Social de Ermesinde\, num consórcio com a Câmara Municipal de Valongo\, Associação Ermesinde Cidade Aberta\, Cabeças no Ar e Pés na Terra e os agrupamentos de escolas do concelho de Valongo. \nA entrada é livre mas sujeita a inscrição e confirmação: 229758774 / papalagui-e6g@nullcse.pt. \n \n 
URL:https://www.verdadeiroolhar.pt/evento/teatro-papalagui-no-auditorio-campo/
LOCATION:Campo\, Valongo\, Portugal
CATEGORIES:Cultura
ATTACH;FMTTYPE=image/jpeg:https://www.verdadeiroolhar.pt/wp-content/uploads/2018/04/PAPALAGUIE6G.jpg
END:VEVENT
END:VCALENDAR