BEGIN:VCALENDAR
VERSION:2.0
PRODID:-//Verdadeiro Olhar - ECPv5.8.0//NONSGML v1.0//EN
CALSCALE:GREGORIAN
METHOD:PUBLISH
X-WR-CALNAME:Verdadeiro Olhar
X-ORIGINAL-URL:https://www.verdadeiroolhar.pt
X-WR-CALDESC:Events for Verdadeiro Olhar
BEGIN:VTIMEZONE
TZID:UTC
BEGIN:STANDARD
TZOFFSETFROM:+0000
TZOFFSETTO:+0000
TZNAME:UTC
DTSTART:20180101T000000
END:STANDARD
END:VTIMEZONE
BEGIN:VEVENT
DTSTART;TZID=UTC:20180602T163000
DTEND;TZID=UTC:20180602T183000
DTSTAMP:20260425T165839
CREATED:20180528T130901Z
LAST-MODIFIED:20180528T130901Z
UID:41756-1527957000-1527964200@www.verdadeiroolhar.pt
SUMMARY:Teatro “Oskar\, o ouriço musical” em Quintandona
DESCRIPTION:No próximo sábado dia 2 de Junho\, o espectáculo ”Oskar\, e o Ouriço Musical” sobe ao palco do Centro Cultural Casa do Xiné\, em Quintandona\, Penafiel\, pelas 16h30. \n“Oskar\, o ouriço musical” é um projecto artístico em educação que pretende criar elos entre as várias artes. Neste âmbito existem já três contos que retratam os instrumentos da orquestra de forma lúdica e entusiasta. Nesta actividade pretende-se promover a leitura animada entre pais e filhos\, sempre a envolver a musica. \nA entrada custa seis euros para dois adultos e duas crianças com a oferta de livro. \nA pré-venda está a acontecer na Associação de Desenvolvimento de Lagares e no Winebar Casa da Viúva. Os bilhetes podem ainda ser comprados no próprio dia 30 minutos antes do espectáculo.
URL:https://www.verdadeiroolhar.pt/evento/teatro-oskar-ourico-musical-quintandona/
LOCATION:Casa do Xiné – Centro Cultural\, Quintandona\, Lagares\, Penafiel\, 4560-195
CATEGORIES:Cultura
ATTACH;FMTTYPE=image/jpeg:https://www.verdadeiroolhar.pt/wp-content/uploads/2018/05/Cartaz.jpg
ORGANIZER;CN="CASAXIN%C3%89%2C%20Associa%C3%A7%C3%A3o%20para%20a%20promo%C3%A7%C3%A3o%20e%20desenvolvimento%20cultural%20de%20Quintandona":MAILTO:geral@casadoxine.org
END:VEVENT
END:VCALENDAR