BEGIN:VCALENDAR
VERSION:2.0
PRODID:-//Verdadeiro Olhar - ECPv5.8.0//NONSGML v1.0//EN
CALSCALE:GREGORIAN
METHOD:PUBLISH
X-WR-CALNAME:Verdadeiro Olhar
X-ORIGINAL-URL:https://www.verdadeiroolhar.pt
X-WR-CALDESC:Events for Verdadeiro Olhar
BEGIN:VTIMEZONE
TZID:UTC
BEGIN:STANDARD
TZOFFSETFROM:+0000
TZOFFSETTO:+0000
TZNAME:UTC
DTSTART:20170101T000000
END:STANDARD
END:VTIMEZONE
BEGIN:VEVENT
DTSTART;TZID=UTC:20170422T213000
DTEND;TZID=UTC:20170429T233000
DTSTAMP:20260423T151632
CREATED:20170330T163357Z
LAST-MODIFIED:20170404T143440Z
UID:19423-1492896600-1493508600@www.verdadeiroolhar.pt
SUMMARY:Teatro: Folia regressa de 22 a 29 de Abril
DESCRIPTION:Entre 22 e 29 de Abril\, o Auditório Municipal de Lousada será palco das encenações do Folia – Festival Internacional de Artes e Espectáculos 2017. \nSerão apresentadas seis peças de teatro e realizado um concerto de Luísa Sobral. \nOs bilhetes já estão à venda. A organização é da Jangada Teatro. \nConheça o programa:
URL:https://www.verdadeiroolhar.pt/evento/teatro-folia-regressa-22-29-abril/
LOCATION:Auditório Municipal de Lousada\, Qtª das Pocinhas\, Lousada\, 4620-674\, Portugal
CATEGORIES:Cultura
ATTACH;FMTTYPE=image/jpeg:https://www.verdadeiroolhar.pt/wp-content/uploads/2017/03/Folia.jpg
END:VEVENT
END:VCALENDAR