BEGIN:VCALENDAR
VERSION:2.0
PRODID:-//Verdadeiro Olhar - ECPv5.8.0//NONSGML v1.0//EN
CALSCALE:GREGORIAN
METHOD:PUBLISH
X-WR-CALNAME:Verdadeiro Olhar
X-ORIGINAL-URL:https://www.verdadeiroolhar.pt
X-WR-CALDESC:Events for Verdadeiro Olhar
BEGIN:VTIMEZONE
TZID:UTC
BEGIN:STANDARD
TZOFFSETFROM:+0000
TZOFFSETTO:+0000
TZNAME:UTC
DTSTART:20170101T000000
END:STANDARD
END:VTIMEZONE
BEGIN:VEVENT
DTSTART;TZID=UTC:20170519T213000
DTEND;TZID=UTC:20170519T233000
DTSTAMP:20260421T192434
CREATED:20170510T175150Z
LAST-MODIFIED:20170510T175150Z
UID:20826-1495229400-1495236600@www.verdadeiroolhar.pt
SUMMARY:Teatro "Desabafos do Henrique Cimento" em Penafiel
DESCRIPTION:No dia 19 de Maio\, pelas 21h30\, a Biblioteca de Penafiel recebe o teatro “Desabafos do Henrique Cimento” (2012)\, o texto de estreia de Ismael Calliano no universo público da escrita. \nTrata-se de um texto de cariz naturalista que visa a aproximação e respectiva identificação com o público que assiste à representação. Uma espécie de monólogo que se vem a descobrir como diálogo. \nA entrada é gratuita. 
URL:https://www.verdadeiroolhar.pt/evento/teatro-desabafos-do-henrique-cimento-penafiel/
LOCATION:Biblioteca Municipal de Penafiel\, Avenida Egas Moniz\, Penafiel\, Portugal
CATEGORIES:Cultura
ATTACH;FMTTYPE=image/png:https://www.verdadeiroolhar.pt/wp-content/uploads/2017/05/TeatroDesafiosHenriqueCimento.png
END:VEVENT
END:VCALENDAR