BEGIN:VCALENDAR
VERSION:2.0
PRODID:-//Verdadeiro Olhar - ECPv5.8.0//NONSGML v1.0//EN
CALSCALE:GREGORIAN
METHOD:PUBLISH
X-WR-CALNAME:Verdadeiro Olhar
X-ORIGINAL-URL:https://www.verdadeiroolhar.pt
X-WR-CALDESC:Events for Verdadeiro Olhar
BEGIN:VTIMEZONE
TZID:UTC
BEGIN:STANDARD
TZOFFSETFROM:+0000
TZOFFSETTO:+0000
TZNAME:UTC
DTSTART:20180101T000000
END:STANDARD
END:VTIMEZONE
BEGIN:VEVENT
DTSTART;TZID=UTC:20180303T213000
DTEND;TZID=UTC:20180303T233000
DTSTAMP:20260421T091517
CREATED:20180226T153410Z
LAST-MODIFIED:20180226T153410Z
UID:35778-1520112600-1520119800@www.verdadeiroolhar.pt
SUMMARY:Teatro: “Como A Comida Quer Ao Sal” em Baltar
DESCRIPTION:O Grupo de Teatro da Associação Clube Jazz de Baltar estreia\, no dia 3 de Março\, pelas 21h30\, no auditório Baltararte\, a peça de teatro “Como A Comida Quer Ao Sal”. \nTrata-se de uma encenação que nasce a partir de “Leandro\, O Rei da Helíria”\, de Alice Vieira\, que por sua vez é uma adaptação do clássico de William Shakespeare “Rei Lear”. A peça introduz o coro\, que tudo vê\, mas nada pode fazer para alterar o rumo dos acontecimentos. \n“Esta é uma história intemporal\, na qual os valores do amor e gratidão são postos à prova\, em oposição à ganância\, inveja e abandono. Com momentos de humor\, mas também carregado de dramatismo e sensibilidade\, este espectáculo pretende emocionar o espectador de diversas formas”\, diz a sinopse. \n \nFicha técnica  \n\nA PARTIR DE: \n“Leandro\, o Rei da Helíria”\, de Alice Vieira \nADAPTAÇÃO E ENCENAÇÃO: \nAna Perfeito \nASSISTÊNCIA DE ENCENAÇÃO: \nCidália Pereira \nINTERPRETAÇÃO: \n\nAna Paula Reis\nBeatriz Ramiro\nBruno Costa\nCidália Pereira\nCristina Silva\nDanny Pereira\nDidinho Pereira\nGabriela Pedro\nInês Rodrigues\nJoão Gomes\nLola Pompeu\nLuís Cruz\nMariana Vilela Vieira\nMiguel Pereira\nRosita do Lino\nSensinha da Mansa\nZara Patinha\nZé Maria Pereira\n\nSELECÇÃO MUSICAL \nAna Perfeito \nOPERAÇÃO DE LUZ E SOM: \nQuerubim Moreira \nCENOGRAFIA E ADEREÇOS \nAssociação Clube Jazz de Baltar \nCONSTRUÇÃO CENOGRÁFICA \nZé Maria Pereira \nGUARDA-ROUPA: \nAssociação Clube Jazz de Baltar \n 
URL:https://www.verdadeiroolhar.pt/evento/teatro-como-a-comida-quer-ao-sal-em-baltar/
LOCATION:Baltar\, Paredes
CATEGORIES:Cultura
ATTACH;FMTTYPE=image/png:https://www.verdadeiroolhar.pt/wp-content/uploads/2018/02/Teatro.png
END:VEVENT
END:VCALENDAR