BEGIN:VCALENDAR
VERSION:2.0
PRODID:-//Verdadeiro Olhar - ECPv5.8.0//NONSGML v1.0//EN
CALSCALE:GREGORIAN
METHOD:PUBLISH
X-WR-CALNAME:Verdadeiro Olhar
X-ORIGINAL-URL:https://www.verdadeiroolhar.pt
X-WR-CALDESC:Events for Verdadeiro Olhar
BEGIN:VTIMEZONE
TZID:UTC
BEGIN:STANDARD
TZOFFSETFROM:+0000
TZOFFSETTO:+0000
TZNAME:UTC
DTSTART:20170101T000000
END:STANDARD
END:VTIMEZONE
BEGIN:VEVENT
DTSTART;TZID=UTC:20170331T213000
DTEND;TZID=UTC:20170331T233000
DTSTAMP:20260423T045002
CREATED:20170316T123440Z
LAST-MODIFIED:20170316T123441Z
UID:18857-1490995800-1491003000@www.verdadeiroolhar.pt
SUMMARY:Teatro "Caixas" no Auditório de Lousada
DESCRIPTION:Estreia no dia 31 de Março\, às 21h30\, no Auditório Municipal de Lousada\, uma peça de teatro sobre a dor de uma mãe e outras cenas dramáticas. \n“Caixas” é um drama da Vidas em Cena\, escrito por Cláudio Pinto e Carlos Carvalheiras\, com Vítor Junio\, Carla Pereira\, Cláudio Pinto\, Rita Castro\, Luís Falcão e Nazaré Coelho.
URL:https://www.verdadeiroolhar.pt/evento/teatro-caixas-no-auditorio-lousada/
LOCATION:Auditório Municipal de Lousada\, Qtª das Pocinhas\, Lousada\, 4620-674\, Portugal
CATEGORIES:Cultura
ATTACH;FMTTYPE=image/jpeg:https://www.verdadeiroolhar.pt/wp-content/uploads/2017/03/17265205_2086563391569961_4032384527141028738_n.jpg
END:VEVENT
END:VCALENDAR