BEGIN:VCALENDAR
VERSION:2.0
PRODID:-//Verdadeiro Olhar - ECPv5.8.0//NONSGML v1.0//EN
CALSCALE:GREGORIAN
METHOD:PUBLISH
X-WR-CALNAME:Verdadeiro Olhar
X-ORIGINAL-URL:https://www.verdadeiroolhar.pt
X-WR-CALDESC:Events for Verdadeiro Olhar
BEGIN:VTIMEZONE
TZID:UTC
BEGIN:STANDARD
TZOFFSETFROM:+0000
TZOFFSETTO:+0000
TZNAME:UTC
DTSTART:20160101T000000
END:STANDARD
END:VTIMEZONE
BEGIN:VEVENT
DTSTART;TZID=UTC:20160910T103000
DTEND;TZID=UTC:20160910T120000
DTSTAMP:20260424T082408
CREATED:20160906T172325Z
LAST-MODIFIED:20160906T172325Z
UID:12944-1473503400-1473508800@www.verdadeiroolhar.pt
SUMMARY:Teatro para Bebés na Biblioteca de Penafiel
DESCRIPTION:O próximo Sábados em Família da Biblioteca Municipal de Penafiel decorre a 10 de Setembro\, pelas 10h30. \nO Auditório vai acolher um Teatro para Bebés dinamizado pela Companhia EtCetera Teatro. \nÉ necessária inscrição\, sendo o custo de oito euros para um bebé e um adulto e de 10 euros para um bebé e dois adultos.
URL:https://www.verdadeiroolhar.pt/evento/teatro-bebes-na-biblioteca-penafiel/
LOCATION:Biblioteca Municipal de Penafiel\, Avenida Egas Moniz\, Penafiel\, Portugal
CATEGORIES:Cultura
ATTACH;FMTTYPE=image/png:https://www.verdadeiroolhar.pt/wp-content/uploads/2016/09/SabadosFamilia_set2016.png
END:VEVENT
END:VCALENDAR