BEGIN:VCALENDAR
VERSION:2.0
PRODID:-//Verdadeiro Olhar - ECPv5.8.0//NONSGML v1.0//EN
CALSCALE:GREGORIAN
METHOD:PUBLISH
X-WR-CALNAME:Verdadeiro Olhar
X-ORIGINAL-URL:https://www.verdadeiroolhar.pt
X-WR-CALDESC:Events for Verdadeiro Olhar
BEGIN:VTIMEZONE
TZID:UTC
BEGIN:STANDARD
TZOFFSETFROM:+0000
TZOFFSETTO:+0000
TZNAME:UTC
DTSTART:20170101T000000
END:STANDARD
END:VTIMEZONE
BEGIN:VEVENT
DTSTART;TZID=UTC:20171201T223000
DTEND;TZID=UTC:20171201T235500
DTSTAMP:20260421T222013
CREATED:20171120T155214Z
LAST-MODIFIED:20171120T155214Z
UID:30985-1512167400-1512172500@www.verdadeiroolhar.pt
SUMMARY:Surma na Casa do Xiné
DESCRIPTION:No dia 1 de Dezembro\, pelas 22h30\, a Casa do Xiné\, na aldeia de Quintandona\, em Lagares\, Penafiel\, recebe um espectáculo de Surma. A entrada custa cinco euros\, sendo gratuita para menores de 12 anos. \nSurma é uma “One Woman Band” cujo disco de estreia\, “Antwerpen”\, lançado a 13 de Outubro de 2017\, já recebeu páginas de destaque em meios como o Público\, Expresso ou Blitz e apresentações em Portugal\, Espanha e França. Acabou de ser já confirmada para o South By Southwest 2018. \n\nDébora Umbelino é original de Leiria mas o que nos traz vem de locais bem mais exóticos. SURMA\, é o seu projecto one-woman-band\, onde domina teclas\, samplers\, cordas\, vozes e loop stations em sonoridades que fogem do jazz para o post-rock\, da electrónica para o noise e nos levam para paragens mais ou menos incertas\, com paisagens desconhecidas e muito prazer na viagem. \nOs bilhetes estão já em pré-venda na Associação para o Desenvolvimento de Lagares e no Winebar Casa da Viúva\, podendo ser adquiridos no próprio dia\, 30 minutos antes do início do espectáculo.
URL:https://www.verdadeiroolhar.pt/evento/surma-na-casa-do-xine/
LOCATION:Casa do Xiné – Centro Cultural\, Quintandona\, Lagares\, Penafiel\, 4560-195
CATEGORIES:Cultura
ATTACH;FMTTYPE=image/jpeg:https://www.verdadeiroolhar.pt/wp-content/uploads/2017/11/23722699_1417314025044291_1513350875763121550_n.jpg
ORGANIZER;CN="CASAXIN%C3%89%2C%20Associa%C3%A7%C3%A3o%20para%20a%20promo%C3%A7%C3%A3o%20e%20desenvolvimento%20cultural%20de%20Quintandona":MAILTO:geral@casadoxine.org
END:VEVENT
END:VCALENDAR