BEGIN:VCALENDAR
VERSION:2.0
PRODID:-//Verdadeiro Olhar - ECPv5.8.0//NONSGML v1.0//EN
CALSCALE:GREGORIAN
METHOD:PUBLISH
X-WR-CALNAME:Verdadeiro Olhar
X-ORIGINAL-URL:https://www.verdadeiroolhar.pt
X-WR-CALDESC:Events for Verdadeiro Olhar
BEGIN:VTIMEZONE
TZID:UTC
BEGIN:STANDARD
TZOFFSETFROM:+0000
TZOFFSETTO:+0000
TZNAME:UTC
DTSTART:20170101T000000
END:STANDARD
END:VTIMEZONE
BEGIN:VEVENT
DTSTART;VALUE=DATE:20170707
DTEND;VALUE=DATE:20170708
DTSTAMP:20260421T111500
CREATED:20170609T141954Z
LAST-MODIFIED:20170609T141954Z
UID:22409-1499385600-1499471999@www.verdadeiroolhar.pt
SUMMARY:Sérgio Godinho nas Sebastianas 2017
DESCRIPTION:Sérgio Godinho é o cabeça de cartaz das Sebastianas 2017\, em Freamunde\, Paços de Ferreira\, a 7 de Julho. A programação começa a 6 de Julho e decorre até 11 de Julho. \nNa mesma noite decorre a já tradicional Noite de Bombos. \nAs Sebastianas são as festas da cidade de Freamunde\, celebradas em honra de São Sebastião. Trata-se de uma festa\, misto de sagrado e profano\, com mais de 115 anos de história\, e com uma alargada programação cultural que todos os anos atrai milhares de pessoas a Freamunde. \nSaiba mais em: http://www.sebastianas.com/ \n \n  \n 
URL:https://www.verdadeiroolhar.pt/evento/sergio-godinho-nas-sebastianas-2017/
LOCATION:Freamunde\, Freamunde\, Paços de Ferreira
CATEGORIES:Cultura,Eventos Públicos
ATTACH;FMTTYPE=image/png:https://www.verdadeiroolhar.pt/wp-content/uploads/2017/06/sbt17_0707_sergio_680x260_v01.png
END:VEVENT
END:VCALENDAR