BEGIN:VCALENDAR
VERSION:2.0
PRODID:-//Verdadeiro Olhar - ECPv5.8.0//NONSGML v1.0//EN
CALSCALE:GREGORIAN
METHOD:PUBLISH
X-WR-CALNAME:Verdadeiro Olhar
X-ORIGINAL-URL:https://www.verdadeiroolhar.pt
X-WR-CALDESC:Events for Verdadeiro Olhar
BEGIN:VTIMEZONE
TZID:UTC
BEGIN:STANDARD
TZOFFSETFROM:+0000
TZOFFSETTO:+0000
TZNAME:UTC
DTSTART:20150101T000000
END:STANDARD
END:VTIMEZONE
BEGIN:VEVENT
DTSTART;TZID=UTC:20151128T110000
DTEND;TZID=UTC:20151128T130000
DTSTAMP:20260421T225042
CREATED:20151123T161630Z
LAST-MODIFIED:20151127T181440Z
UID:2227-1448708400-1448715600@www.verdadeiroolhar.pt
SUMMARY:Sábados Fantásticos com Workshop de língua gestual
DESCRIPTION:A próxima sessão da iniciativa Sábados Fantásticos realiza-se no dia 28 de Novembro\, às 11h00\, no Pólo de Leitura de Ermesinde/Vila Beatriz e consiste num workshop “Língua Gestual Portuguesa” para crianças\, dinamizado por Patrícia Pinto\, da Escola Superior de Enfermagem do Porto.\nO objectivo é dar a conhecer esta diferente forma de comunicação\, através de algumas noções básicas.
URL:https://www.verdadeiroolhar.pt/evento/sabados-fantasticos-com-workshop-de-linguagem-gestual/
LOCATION:Pólo de Leitura de Ermesinde – Nova Vila Beatriz\, Rua José Joaquim Ribeiro Teles\, 734\, Valongo\, 4445-428
CATEGORIES:Cultura
END:VEVENT
END:VCALENDAR