BEGIN:VCALENDAR
VERSION:2.0
PRODID:-//Verdadeiro Olhar - ECPv5.8.0//NONSGML v1.0//EN
CALSCALE:GREGORIAN
METHOD:PUBLISH
X-WR-CALNAME:Verdadeiro Olhar
X-ORIGINAL-URL:https://www.verdadeiroolhar.pt
X-WR-CALDESC:Events for Verdadeiro Olhar
BEGIN:VTIMEZONE
TZID:UTC
BEGIN:STANDARD
TZOFFSETFROM:+0000
TZOFFSETTO:+0000
TZNAME:UTC
DTSTART:20170101T000000
END:STANDARD
END:VTIMEZONE
BEGIN:VEVENT
DTSTART;VALUE=DATE:20171214
DTEND;VALUE=DATE:20171218
DTSTAMP:20260422T170355
CREATED:20171120T162920Z
LAST-MODIFIED:20171120T163131Z
UID:30997-1513209600-1513555199@www.verdadeiroolhar.pt
SUMMARY:Rei Leão em Patins em Paços de Ferreira
DESCRIPTION:O Pavilhão Municipal de Paços de Ferreira recebe\, a 14\, 15\, 16 e 17 de Dezembro\, o espectáculo da secção de patinagem Artística da Juventude Pacense\, Rei Leão em Patins. \nNeste espectáculo de Natal vão participar cerca de 70 patinadores entre os 4 e os 25 anos\, muitos deles campeões nacionais e vice-campeões da Europa\, realça o clube. \nEste é nono espectáculo e a organização conta receber cerca de cinco mil pessoas. Parte das sessões são para alunos das escolas. A 15\, 16 e 17 há sessões para o público em geral. Os bilhetes custam 6\,5 euros. \nSaiba mais aqui.
URL:https://www.verdadeiroolhar.pt/evento/rei-leao-em-patins-em-pacos-de-ferreira/
LOCATION:Pavilhão Municipal de Paços de Ferreira\, Paços de Ferreira
CATEGORIES:Desporto,Eventos Públicos
ATTACH;FMTTYPE=image/jpeg:https://www.verdadeiroolhar.pt/wp-content/uploads/2017/11/22279465_1948898818766473_2383432600333507168_n.jpg
END:VEVENT
END:VCALENDAR