BEGIN:VCALENDAR
VERSION:2.0
PRODID:-//Verdadeiro Olhar - ECPv5.8.0//NONSGML v1.0//EN
CALSCALE:GREGORIAN
METHOD:PUBLISH
X-WR-CALNAME:Verdadeiro Olhar
X-ORIGINAL-URL:https://www.verdadeiroolhar.pt
X-WR-CALDESC:Events for Verdadeiro Olhar
BEGIN:VTIMEZONE
TZID:UTC
BEGIN:STANDARD
TZOFFSETFROM:+0000
TZOFFSETTO:+0000
TZNAME:UTC
DTSTART:20160101T000000
END:STANDARD
END:VTIMEZONE
BEGIN:VEVENT
DTSTART;TZID=UTC:20160630T190000
DTEND;TZID=UTC:20160630T220000
DTSTAMP:20260422T010334
CREATED:20160606T153324Z
LAST-MODIFIED:20160606T153324Z
UID:9682-1467313200-1467324000@www.verdadeiroolhar.pt
SUMMARY:Recital de Violino no Auditório Municipal de Lousada
DESCRIPTION:No último dia do mês\, dia 30\, o Auditório Municipal de Lousada vai receber\, a partir das 19h00\, o Recital de Violino de Joana Póvoa\, Beatriz Costa e Tânia Gomes.
URL:https://www.verdadeiroolhar.pt/evento/recital-violino-no-auditorio-municipal-lousada/
LOCATION:Auditório Municipal de Lousada\, Qtª das Pocinhas\, Lousada\, 4620-674\, Portugal
CATEGORIES:Cultura,Eventos Públicos
ATTACH;FMTTYPE=image/jpeg:https://www.verdadeiroolhar.pt/wp-content/uploads/2016/06/violino.jpg
END:VEVENT
END:VCALENDAR