BEGIN:VCALENDAR
VERSION:2.0
PRODID:-//Verdadeiro Olhar - ECPv5.8.0//NONSGML v1.0//EN
CALSCALE:GREGORIAN
METHOD:PUBLISH
X-WR-CALNAME:Verdadeiro Olhar
X-ORIGINAL-URL:https://www.verdadeiroolhar.pt
X-WR-CALDESC:Events for Verdadeiro Olhar
BEGIN:VTIMEZONE
TZID:UTC
BEGIN:STANDARD
TZOFFSETFROM:+0000
TZOFFSETTO:+0000
TZNAME:UTC
DTSTART:20170101T000000
END:STANDARD
END:VTIMEZONE
BEGIN:VEVENT
DTSTART;TZID=UTC:20170707T220000
DTEND;TZID=UTC:20170707T233000
DTSTAMP:20260421T155738
CREATED:20170705T173824Z
LAST-MODIFIED:20170705T173824Z
UID:23880-1499464800-1499470200@www.verdadeiroolhar.pt
SUMMARY:Quinta do Bill em Rio de Moinhos
DESCRIPTION:A Tour dos 30 anos dos Quinta do Bill passa por Penafiel. A banda vai estar no dia 7 de Julho nas Festas da Nossa Senhora dos Remédios.
URL:https://www.verdadeiroolhar.pt/evento/quinta-do-bill-rio-moinhos/
LOCATION:Rio de Moinhos\, Penafiel\, 4560\, Portugal
CATEGORIES:Eventos Públicos
ATTACH;FMTTYPE=image/jpeg:https://www.verdadeiroolhar.pt/wp-content/uploads/2017/07/19657122_10154947169827779_1572023677033596640_n.jpg
END:VEVENT
END:VCALENDAR