BEGIN:VCALENDAR
VERSION:2.0
PRODID:-//Verdadeiro Olhar - ECPv5.8.0//NONSGML v1.0//EN
CALSCALE:GREGORIAN
METHOD:PUBLISH
X-WR-CALNAME:Verdadeiro Olhar
X-ORIGINAL-URL:https://www.verdadeiroolhar.pt
X-WR-CALDESC:Events for Verdadeiro Olhar
BEGIN:VTIMEZONE
TZID:UTC
BEGIN:STANDARD
TZOFFSETFROM:+0000
TZOFFSETTO:+0000
TZNAME:UTC
DTSTART:20180101T000000
END:STANDARD
END:VTIMEZONE
BEGIN:VEVENT
DTSTART;TZID=UTC:20180413T200000
DTEND;TZID=UTC:20180413T233000
DTSTAMP:20260423T155923
CREATED:20180316T153133Z
LAST-MODIFIED:20180316T153133Z
UID:37062-1523649600-1523662200@www.verdadeiroolhar.pt
SUMMARY:Queimada Galega em Recarei
DESCRIPTION:Na sexta-feira 13 de Abril\, Recarei vai acolher uma Queimada Galega. A iniciativa começa pelas 20h00\, na Escola do Calvário\, no lugar da Portela\, e\, pelas 21h30\, haverá uma sessão que envolve teatro\, cultura e misticismo. \nVai ainda haver venda de artesanato esotérico\, de bijutaria\, leituras de tarot e venda de bolos e doces caseiros\, assim como de bifanas e crepes. \nA organização é da Turma dos Desafios.
URL:https://www.verdadeiroolhar.pt/evento/queimada-galega-recarei/
LOCATION:Recarei\, Paredes
CATEGORIES:Cultura,Eventos Públicos
ATTACH;FMTTYPE=image/jpeg:https://www.verdadeiroolhar.pt/wp-content/uploads/2018/03/Queimada-Galega.jpg
END:VEVENT
END:VCALENDAR