BEGIN:VCALENDAR
VERSION:2.0
PRODID:-//Verdadeiro Olhar - ECPv5.8.0//NONSGML v1.0//EN
CALSCALE:GREGORIAN
METHOD:PUBLISH
X-WR-CALNAME:Verdadeiro Olhar
X-ORIGINAL-URL:https://www.verdadeiroolhar.pt
X-WR-CALDESC:Events for Verdadeiro Olhar
BEGIN:VTIMEZONE
TZID:UTC
BEGIN:STANDARD
TZOFFSETFROM:+0000
TZOFFSETTO:+0000
TZNAME:UTC
DTSTART:20180101T000000
END:STANDARD
END:VTIMEZONE
BEGIN:VEVENT
DTSTART;VALUE=DATE:20180405
DTEND;VALUE=DATE:20180412
DTSTAMP:20260423T022649
CREATED:20180405T122939Z
LAST-MODIFIED:20180405T122939Z
UID:38306-1522886400-1523491199@www.verdadeiroolhar.pt
SUMMARY:Programação Cinemax Penafiel - 5 a 11 de Abril
DESCRIPTION:PROGRAMAÇÃO DA SEMANA 05 a 11 ABRIL \nFilme: “Sherlock Gnomes”  \nSessões: 13h00-19h50 \nDom. 11h00 \n  \nFilme: “Batalha do Pacifico: A Revolta”  \nSessões: 14h40-17h00-19h20-21h40-00h00* \n  \nFilme: “Peter Rabbit”  \nSessões: 13h00-15h00-17h10-19h20 \nDom. 11h00 \n  \nFilme: “Ready Player One”  \nSessões: 14h30-21h40-00h30* \n  \nFilme: “Tomb Raider”  \nSessões: 17h20 \n  \nFilme: “Operação Entebbe”  \nSessões: 21h40-00h00*
URL:https://www.verdadeiroolhar.pt/evento/programacao-cinemax-penafiel-5-a-11-de-abril/
LOCATION:Cinemax Penafiel\, Rua D. António Ferreira Gomes\, n.º 104\, Penafiel\, 4560-260
CATEGORIES:Cultura
ATTACH;FMTTYPE=image/jpeg:https://www.verdadeiroolhar.pt/wp-content/uploads/2017/11/Cinemax.jpg
ORGANIZER;CN="Cinemax%20Penafiel":MAILTO:geral@cinemax.pt
END:VEVENT
END:VCALENDAR