BEGIN:VCALENDAR
VERSION:2.0
PRODID:-//Verdadeiro Olhar - ECPv5.8.0//NONSGML v1.0//EN
CALSCALE:GREGORIAN
METHOD:PUBLISH
X-WR-CALNAME:Verdadeiro Olhar
X-ORIGINAL-URL:https://www.verdadeiroolhar.pt
X-WR-CALDESC:Events for Verdadeiro Olhar
BEGIN:VTIMEZONE
TZID:UTC
BEGIN:STANDARD
TZOFFSETFROM:+0000
TZOFFSETTO:+0000
TZNAME:UTC
DTSTART:20190101T000000
END:STANDARD
END:VTIMEZONE
BEGIN:VEVENT
DTSTART;VALUE=DATE:20190801
DTEND;VALUE=DATE:20190808
DTSTAMP:20260424T160202
CREATED:20190730T112107Z
LAST-MODIFIED:20190730T112107Z
UID:67559-1564617600-1565222399@www.verdadeiroolhar.pt
SUMMARY:Programação Cinemax Penafiel
DESCRIPTION:Semana de 1 A 7 de Agosto  \nFilme: Velocidade Furiosa “Hobbs & Shaw” \nSessões: 12h00-15h10-16h40-18h00-21h20-21h45-00h00-00h30 \nFilme: “O Rei Leão” Versão Portuguesa \nSessões: 11h00**-14h40-17h05-19h30-21h55 \nFilme: “Ugly Dolls” \nSessões: 11h00**-13h00-14h40-19h30 \nFilme: “Tony” \nSessões: 00h20  \n**Domingo
URL:https://www.verdadeiroolhar.pt/evento/programacao-cinemax-penafiel-44/
LOCATION:Cinemax Penafiel\, Rua D. António Ferreira Gomes\, n.º 104\, Penafiel\, 4560-260
CATEGORIES:Cultura
ATTACH;FMTTYPE=image/jpeg:https://www.verdadeiroolhar.pt/wp-content/uploads/2017/11/Cinemax.jpg
END:VEVENT
END:VCALENDAR