BEGIN:VCALENDAR
VERSION:2.0
PRODID:-//Verdadeiro Olhar - ECPv5.8.0//NONSGML v1.0//EN
CALSCALE:GREGORIAN
METHOD:PUBLISH
X-WR-CALNAME:Verdadeiro Olhar
X-ORIGINAL-URL:https://www.verdadeiroolhar.pt
X-WR-CALDESC:Events for Verdadeiro Olhar
BEGIN:VTIMEZONE
TZID:UTC
BEGIN:STANDARD
TZOFFSETFROM:+0000
TZOFFSETTO:+0000
TZNAME:UTC
DTSTART:20180101T000000
END:STANDARD
END:VTIMEZONE
BEGIN:VEVENT
DTSTART;VALUE=DATE:20180125
DTEND;VALUE=DATE:20180201
DTSTAMP:20260422T004450
CREATED:20180124T185739Z
LAST-MODIFIED:20180123T110030Z
UID:34015-1516838400-1517443199@www.verdadeiroolhar.pt
SUMMARY:Programação Cinemax Penafiel
DESCRIPTION:Semana de 25 a 31 de Janeiro  \n“Maze Runner – a cura mortal” \nSessões: 14h30-18h50-21h40-00h00* \nDom. 10h30 \n“The Post” \nSessões: 14h40-21h40-00h20* \n“O passageiro” \nSegunda a sexta-feira: 14h30 \nSessões: 17h20-19h30 \n“Tad e o Segredo do Rei Midas” \nSessões: 13h00-17h00 \nDom. 10h30 \n“Ferdinando” \nSábado e domingo: 14h40 \nDom. 10h30 \n“Bad Investigate” \nSessões: 17h00-22h00-00h30* \n“A hora mais negra” \nSessões: 19h30 \n 
URL:https://www.verdadeiroolhar.pt/evento/programacao-cinemax-penafiel-4/
LOCATION:Cinemax Penafiel\, Rua D. António Ferreira Gomes\, n.º 104\, Penafiel\, 4560-260
CATEGORIES:Cultura
ATTACH;FMTTYPE=image/jpeg:https://www.verdadeiroolhar.pt/wp-content/uploads/2017/11/Cinemax.jpg
ORGANIZER;CN="Cinemax%20Penafiel":MAILTO:geral@cinemax.pt
END:VEVENT
END:VCALENDAR