BEGIN:VCALENDAR
VERSION:2.0
PRODID:-//Verdadeiro Olhar - ECPv5.8.0//NONSGML v1.0//EN
CALSCALE:GREGORIAN
METHOD:PUBLISH
X-WR-CALNAME:Verdadeiro Olhar
X-ORIGINAL-URL:https://www.verdadeiroolhar.pt
X-WR-CALDESC:Events for Verdadeiro Olhar
BEGIN:VTIMEZONE
TZID:UTC
BEGIN:STANDARD
TZOFFSETFROM:+0000
TZOFFSETTO:+0000
TZNAME:UTC
DTSTART:20180101T000000
END:STANDARD
END:VTIMEZONE
BEGIN:VEVENT
DTSTART;VALUE=DATE:20180118
DTEND;VALUE=DATE:20180125
DTSTAMP:20260422T104406
CREATED:20180116T104354Z
LAST-MODIFIED:20180116T104537Z
UID:33645-1516233600-1516838399@www.verdadeiroolhar.pt
SUMMARY:Programação Cinemax Penafiel
DESCRIPTION:Semana de 18 a 24 de Janeiro \n“O passageiro” \nSessões: 14h45-17h00-21h50-00h10* \n“Mollys game – Jogo da alta-roda” \nSessões: 19h15 \n“Jumanji” \nSessões: 00h10* \n“Bad investigate” \nSessões: 14h30-17h00-21h50-00h20* \n“Ferdinando” \nSessões: 15h30-19h30 (3D) – dom. 10h30 \n“Tad e o segredo do Rei Midas” \nSessões: 13h30-17h30 – dom. 10h30 \n“A hora mais negra” \nSessões: 19h20-21h40 \n  \nSaiba mais em: https://cinemax.pt/
URL:https://www.verdadeiroolhar.pt/evento/programacao-cinemax-penafiel-3/
LOCATION:Cinemax Penafiel\, Rua D. António Ferreira Gomes\, n.º 104\, Penafiel\, 4560-260
CATEGORIES:Cultura
ATTACH;FMTTYPE=image/jpeg:https://www.verdadeiroolhar.pt/wp-content/uploads/2017/11/Cinemax.jpg
ORGANIZER;CN="Cinemax%20Penafiel":MAILTO:geral@cinemax.pt
END:VEVENT
END:VCALENDAR