BEGIN:VCALENDAR
VERSION:2.0
PRODID:-//Verdadeiro Olhar - ECPv5.8.0//NONSGML v1.0//EN
CALSCALE:GREGORIAN
METHOD:PUBLISH
X-WR-CALNAME:Verdadeiro Olhar
X-ORIGINAL-URL:https://www.verdadeiroolhar.pt
X-WR-CALDESC:Events for Verdadeiro Olhar
BEGIN:VTIMEZONE
TZID:UTC
BEGIN:STANDARD
TZOFFSETFROM:+0000
TZOFFSETTO:+0000
TZNAME:UTC
DTSTART:20170101T000000
END:STANDARD
END:VTIMEZONE
BEGIN:VEVENT
DTSTART;VALUE=DATE:20170325
DTEND;VALUE=DATE:20170327
DTSTAMP:20260423T122526
CREATED:20170316T121613Z
LAST-MODIFIED:20170316T121613Z
UID:18846-1490400000-1490572799@www.verdadeiroolhar.pt
SUMMARY:Procissão dos Santos Passos em Valongo
DESCRIPTION:As Seculares Procissões dos Santos Passos\, em Valongo\, realizam-se nos dias 25 e 26 de Março de 2017. \nOrganizadas pela Confraria do Senhor dos Passos desde 1710\, as tradicionais Procissões do Santos Passos percorrem as principais as ruas da Cidade de Valongo\, que se enchem de devotos para assistirem à recriação dos últimos Passos de Jesus. \nMais informações em: http://procissoes-santos-passos-valongo.blogspot.pt/
URL:https://www.verdadeiroolhar.pt/evento/procissao-dos-santos-passos-valongo/
LOCATION:Cidade de Valongo
CATEGORIES:Cultura
ATTACH;FMTTYPE=image/jpeg:https://www.verdadeiroolhar.pt/wp-content/uploads/2017/03/IMG_0315_1_980_450.jpg
END:VEVENT
END:VCALENDAR