BEGIN:VCALENDAR
VERSION:2.0
PRODID:-//Verdadeiro Olhar - ECPv5.8.0//NONSGML v1.0//EN
CALSCALE:GREGORIAN
METHOD:PUBLISH
X-WR-CALNAME:Verdadeiro Olhar
X-ORIGINAL-URL:https://www.verdadeiroolhar.pt
X-WR-CALDESC:Events for Verdadeiro Olhar
BEGIN:VTIMEZONE
TZID:UTC
BEGIN:STANDARD
TZOFFSETFROM:+0000
TZOFFSETTO:+0000
TZNAME:UTC
DTSTART:20170101T000000
END:STANDARD
END:VTIMEZONE
BEGIN:VEVENT
DTSTART;TZID=UTC:20170714T213000
DTEND;TZID=UTC:20170714T230000
DTSTAMP:20260422T075640
CREATED:20170704T162046Z
LAST-MODIFIED:20170704T162046Z
UID:23809-1500067800-1500073200@www.verdadeiroolhar.pt
SUMMARY:"O Povo Que Ainda Canta" na Biblioteca de Penafiel
DESCRIPTION:No dia 14 de Julho\, pelas 21h30\, a Biblioteca Municipal de Penafiel recebe a apresentação do livro/DVD “O Povo Que Ainda Canta”\, de Tiago Pereira.
URL:https://www.verdadeiroolhar.pt/evento/povo-ainda-canta-na-biblioteca-penafiel/
LOCATION:Biblioteca Municipal de Penafiel\, Avenida Egas Moniz\, Penafiel\, Portugal
CATEGORIES:Cultura
ATTACH;FMTTYPE=image/jpeg:https://www.verdadeiroolhar.pt/wp-content/uploads/2017/07/LivroPovoQueAindaCanta.jpg
END:VEVENT
END:VCALENDAR