BEGIN:VCALENDAR
VERSION:2.0
PRODID:-//Verdadeiro Olhar - ECPv5.8.0//NONSGML v1.0//EN
CALSCALE:GREGORIAN
METHOD:PUBLISH
X-WR-CALNAME:Verdadeiro Olhar
X-ORIGINAL-URL:https://www.verdadeiroolhar.pt
X-WR-CALDESC:Events for Verdadeiro Olhar
BEGIN:VTIMEZONE
TZID:UTC
BEGIN:STANDARD
TZOFFSETFROM:+0000
TZOFFSETTO:+0000
TZNAME:UTC
DTSTART:20150101T000000
END:STANDARD
END:VTIMEZONE
BEGIN:VEVENT
DTSTART;TZID=UTC:20151129T090000
DTEND;TZID=UTC:20151129T180000
DTSTAMP:20260422T031729
CREATED:20151105T172324Z
LAST-MODIFIED:20151105T172324Z
UID:1665-1448787600-1448820000@www.verdadeiroolhar.pt
SUMMARY:Por Trilhos de Lousada no dia 29 de novembro
DESCRIPTION:Realiza-se no dia 29 de Novembro o 2.º Trail “Por Trilhos de Lousada”\, numa organização do Clube Lousada BTT a que a Câmara Municipal de Lousada se associa. \nEsta edição vai contar com o Trail\, com 25 quilómetros\, Mini Trail\, com 15 quilómetros e ainda com uma Caminhada Trail Solidária\, de 10 quilómetros. \nAs inscrições para o Trail e para o Mini Trail podem ser efectuadas até dia 15 de Novembro\, por um valor de oito euros\, aumentando o valor a partir dessa data para os 10 euros. \nNo que respeita à Caminhada Trail Solidária tem um valor de três euros\, que reverte a favor dos Bombeiros Voluntários de Lousada e da Lousavidas. \nNas três situações estão incluídas lembranças\, reforço alimentar e banhos no final. \nAs inscrições podem ser efectuadas em www.lousadabtt.net.
URL:https://www.verdadeiroolhar.pt/evento/por-trilhos-de-lousada-no-dia-29-de-novembro/
LOCATION:Parque Urbano Dr. Mário Fonseca\, Avenida Amílcar Neto\, Lousada
CATEGORIES:Desporto
END:VEVENT
END:VCALENDAR