BEGIN:VCALENDAR
VERSION:2.0
PRODID:-//Verdadeiro Olhar - ECPv5.8.0//NONSGML v1.0//EN
CALSCALE:GREGORIAN
METHOD:PUBLISH
X-WR-CALNAME:Verdadeiro Olhar
X-ORIGINAL-URL:https://www.verdadeiroolhar.pt
X-WR-CALDESC:Events for Verdadeiro Olhar
BEGIN:VTIMEZONE
TZID:UTC
BEGIN:STANDARD
TZOFFSETFROM:+0000
TZOFFSETTO:+0000
TZNAME:UTC
DTSTART:20160101T000000
END:STANDARD
END:VTIMEZONE
BEGIN:VEVENT
DTSTART;TZID=UTC:20160108T213000
DTEND;TZID=UTC:20160108T230000
DTSTAMP:20260425T115044
CREATED:20160107T151347Z
LAST-MODIFIED:20160107T151347Z
UID:3502-1452288600-1452294000@www.verdadeiroolhar.pt
SUMMARY:“Poesia com nome de mulher” apresentado na Biblioteca
DESCRIPTION:A Biblioteca Municipal de Penafiel apresenta\, no dia 8 de Janeiro\, às 21h30\, o livro “Poesia com nome de mulher”\, de Sérgio Lizardo\, com a apresentação a cargo de Carla Anjos. Em paralelo decorrerá um momento musical com Francisca Portugal ao violino e Isolda Crespi Rubio ao piano. \nAinda nesta iniciativa\, decorrerá a inauguração da exposição “O Nosso Mundo” de David Reinath\, uma exposição de fósseis\, minerais e cristais.
URL:https://www.verdadeiroolhar.pt/evento/poesia-com-nome-de-mulher-apresentado-na-biblioteca/
LOCATION:Biblioteca Municipal de Penafiel\, Avenida Egas Moniz\, Penafiel\, Portugal
CATEGORIES:Cultura
END:VEVENT
END:VCALENDAR